{"text_format":"3","workbook":"xlsx","n_sheets":13,"sheets":["メニュー","領収証入力シート","領収証履歴データベース前","領収証履歴データベース","領収証印刷データ","領収証シート1面","領収証印刷シート1面","領収証シート3面","領収証印刷シート3面","読み取りシート","回数","割り算の商と余り","データリスト確認rk2017"],"not_rendered":{"images":4,"macros":1,"defined_names":6,"comments":3},"read":"whole","date_system":"1900"}

{"sheet":"メニュー","index":0,"n_rows":99,"n_cols":13,"rows_kept":99,"merged":[[0,0,0,3],[1,0,1,3],[5,4,5,7],[5,9,5,11],[5,12,5,18],[7,5,7,7],[7,9,7,11],[7,12,7,18],[8,12,8,17],[10,5,10,7],[10,9,10,11],[10,12,10,18],[11,12,11,18],[13,5,13,7],[13,9,13,11],[13,12,13,18],[14,12,14,18],[16,5,16,7],[16,9,16,11],[16,12,16,18],[17,12,17,18],[19,5,19,7],[19,9,19,11],[19,12,19,18],[20,12,20,18],[22,5,22,7],[22,9,22,11],[22,12,22,18]]}
["ソフト種類",{"$nulls":3},"：","領収証作成ソフト",{"$nulls":4},"企画/制作","高金印刷株式会社　　コウキンインサツ （ カ"]
["ソフト名",{"$nulls":3},"：","簡単君rk2017-A4.02",{"$nulls":4},"住所","青森市千刈二丁目1番31号　〒038-0015"]
[{"$nulls":10},"TEL","017-781-2244"]
[{"$nulls":10},"FAX","017-781-2509"]
[]
[{"$nulls":4},"設定手順",{"$nulls":4},"確　認　　/　　入　力",null,null,"内　　　　容"]
[]
[{"$nulls":4},1,"消費税率設定確認",{"$nulls":3},{"v":0.08,"d":"8.00%"},null,null,"消費税の税率を入力します。セルJ8に半角数で数値を入力します（ 例：8.00% ）"]
[{"$nulls":12},"税率を変更する場合、セルＪ8に入力した後に、変更ボタンをクリックします"]
[]
[{"$nulls":4},2,"消費税円未満設定確認",{"$nulls":3},"切り捨てる",null,null,"課税対象額×税率＝円未満の処理方法の選択"]
[{"$nulls":12},"セルJ11をクリックし、現れた▼ボタンを押し、ドロップダウンリストから選択します"]
[]
[{"$nulls":4},3,"印刷パスワード入力",{"$nulls":6},"パスワードを入力していない場合、印刷実行ボタンは機能しません"]
[{"$nulls":12},"専用用紙（パスワード付）を弊社で販売しています"]
[]
[{"$nulls":4},4,"領収証の印刷設定",{"$nulls":6},"印刷設定は領収証印刷シートで設定します　自社名入力・レイアウト等設定できます"]
[{"$nulls":12},"印刷データは、このシートからプリンタに流れてゆきますので、用紙設定は領収証印刷シーでプリンタのプロパティーで設定します"]
[]
[{"$nulls":4},5,"ファイルを開くときの設定確認",{"$nulls":3},"メニュー",null,null,"簡単君ｒｋ2017-Ａ4.xlsmを開くとき、はじめに表示するシートを選択できます"]
[{"$nulls":12},"セルJ20をクリックし、現れた▼ボタンを押し、ドロップダウンリストから選択します"]
[]
[{"$nulls":4},6,"領収証作成",{"$nulls":6},"領収証入力シートで必要事項を入力し領収証を印刷できます"]
{"$rows_empty":57}
[{"$nulls":9},"リスト"]
[{"$nulls":9},"切り捨てる"]
[{"$nulls":9},"切り上げる"]
[{"$nulls":9},"四捨五入"]
[]
[]
[]
[]
[{"$nulls":9},{"$f":"J8","v":{"v":0.08,"d":"8.00%"}}]
[{"$nulls":9},{"$f":"J89*100","v":8}]
[{"$nulls":9},{"$f":"100+J90","v":108}]
[]
[]
[]
[]
[{"$nulls":9},"リスト"]
[{"$nulls":9},"メニュー"]
[{"$nulls":9},"領収証入力シート"]
[{"$nulls":9},"領収証履歴データベース"]

{"sheet":"領収証入力シート","index":1,"n_rows":645,"n_cols":49,"rows_kept":645,"merged":[[0,38,0,39],[0,40,0,42],[0,43,0,45],[4,2,4,10],[4,15,7,20],[4,24,6,24],[4,25,6,26],[5,38,19,39],[6,2,8,3],[6,4,8,10],[9,17,12,23],[9,24,12,24],[11,2,12,3],[11,4,12,10],[15,2,17,4],[15,5,17,10],[15,35,19,35],[16,18,25,23],[20,2,21,4],[20,5,21,10],[21,35,30,35],[24,2,26,4],[24,5,26,10],[29,2,31,5],[29,6,31,10],[29,16,31,16],[29,17,31,25],[34,2,35,4],[34,5,35,10],[34,17,35,25],[38,2,39,4],[38,5,39,10],[38,16,39,20],[38,21,39,25],[42,2,43,10],[42,15,43,16],[42,17,43,19],[43,21,46,24],[46,2,46,4],[46,15,48,16],[46,17,48,19],[47,21,51,24],[49,2,54,10],[51,15,52,17],[51,18,52,19],[52,21,56,24],[55,15,57,16],[55,17,57,19],[57,2,62,10],[57,21,61,24],[60,15,62,16],[60,17,62,19]]}
[{"$nulls":38},"漢数字を選択した場合の設定手順",null,"チェックライター風を選択した場合",null,null,"アラビア数字+記号を選択した場合の設定"]
[null,"簡単君rk2017-A4",{"$nulls":13},"↓　顧客名コンボボックス",{"$nulls":7},"↓　日付コンボボックス",{"$nulls":11},"選択（金額表示方法）",null,null,"金額頭文字","金額終わり文字","金額頭文字","カンマ","終止記号","金額頭文字","カンマ","金額終わり文字"]
[{"$nulls":35},"アラビア数字+記号",null,null,"金","也","＠",",","＊","￥",",","-"]
[]
[null,null,"領収証（控）",{"$nulls":12},"領 収 証",{"$nulls":8},"№",{"$nulls":13},"表示する"]
[]
[null,null,"№"]
[]
[]
[{"$nulls":24},"様"]
[]
[null,null,"氏名",null,{"$f":"IF(R10=\"\",\"\",R10)","v":""}]
[]
[]
[]
[null,null,"請求金額",{"$nulls":32},"領収証金額入力欄"]
[{"$nulls":18},{"$f":"IF(AJ22=\"\",\"\",IF(AJ3=\"チェックライター風\",AJ113,IF(AJ3=\"漢数字\",AJ111,IF(AJ3=\"アラビア数字+記号\",AJ118,AJ22))))","v":""}]
[]
[]
[]
[null,null,"領収金額",null,null,{"$f":"IF(AJ22=\"\",\"\",AJ22)","v":""}]
[]
[]
[]
[null,null,"税抜金額",null,null,{"$f":"IF(C25=\"\",\"\",IF(G30=\"\",\"\",IF(AJ22=\"\",\"\",AJ22-G30)))","v":""}]
[]
[]
[]
[]
[null,null,"消費税額等(8%)",{"$nulls":3},{"$f":"IF(OR(C30=AJ99,C30=AJ100,C30=AJ101,C30=AJ102,C30=AJ103,C30=AJ104,C30=AJ105,C30=\"\"),\"\",IF(Y112=0,\"\",IF(Y112=\"\",\"\",Y112)))","v":""},{"$nulls":9},"但"]
[]
[]
[]
[]
[null,null,{"$f":"IF(P56=\"\",\"\",P56)","v":"現　金"},null,null,{"$f":"IF(R56=\"\",\"\",R56)","v":""}]
[]
[]
[]
[null,null,{"$f":"IF(P61=\"\",\"\",P61)","v":"小切手"},null,null,{"$f":"IF(R61=\"\",\"\",R61)","v":""},{"$nulls":15},"上記正に領収いたしました"]
[]
[]
[]
[null,null,{"$f":"IF(Q39=\"\",\"\",Q39)","v":""},{"$nulls":12},"内　訳",null,{"$f":"IF(F16=\"\",\"\",IF(P43=\"請求金額\",F16,\"\"))","v":""}]
[{"$nulls":21},{"$f":"IF(領収証印刷シート1面!AJ74=\"\",\"\",領収証印刷シート1面!AJ74)","v":"高 金 印 刷 株 式 会 社　　"}]
[]
[]
[null,null,"摘要",{"$nulls":12},"税抜金額",null,{"$f":"IF(P47=\"\",\"\",IF(S52=\"\",\"\",IF(AJ22=\"\",\"\",AJ22-S52)))","v":""}]
[{"$nulls":21},{"$f":"IF(領収証印刷シート1面!AJ75=\"\",\"\",領収証印刷シート1面!AJ75)","v":"　　〒 038-0015"}]
[]
[null,null,{"$f":"IF(R30=\"\",\"\",R30)","v":""}]
[]
[{"$nulls":15},"消費税額等(8%)",null,null,{"$f":"IF(OR(P52=AJ99,P52=AJ100,P52=AJ101,P52=AJ102,P52=AJ103,P52=AJ104,P52=AJ105,P52=\"\"),\"\",IF(Y112=0,\"\",IF(Y112=\"\",\"\",Y112)))","v":""}]
[{"$nulls":21},{"$f":"IF(領収証印刷シート1面!AJ76=\"\",\"\",領収証印刷シート1面!AJ76)","v":"　　　　青森市千刈二丁目１番３１号"}]
[]
[]
[{"$nulls":15},"現　金"]
[]
[null,null,{"$f":"IF(R35=\"\",\"\",R35)","v":""},{"$nulls":18},{"$f":"IF(領収証印刷シート1面!AJ77=\"\",\"\",領収証印刷シート1面!AJ77)","v":"　　　　　 電話　017-781-2244"}]
[]
[]
[{"$nulls":15},"小切手"]
{"$rows_empty":9}
[{"$nulls":35},"リスト(セルP43用)",null,null,"金額頭文字リスト","金額終わり文字リスト",{"$nulls":3},"金額頭文字リスト",null,"金額終わり文字リスト"]
[{"$nulls":35},"内　訳",null,null,"金","也",{"$nulls":3},"金",null,"也"]
[{"$nulls":35},"請求金額",null,null,"金、","円也",{"$nulls":3},"￥",null,"※"]
[{"$nulls":39},"円",{"$nulls":3},"\\",null,"-"]
[{"$nulls":45},"円也"]
[{"$nulls":45},"円"]
[{"$nulls":45},".-"]
[]
[]
[]
[]
[]
[{"$nulls":35},"リスト(セルC25とセルP47用)",null,null,"漢数字を選択した場合の設定②リスト"]
[{"$nulls":35},"税抜金額",null,null,"表示する"]
[{"$nulls":38},"表示しない"]
{"$rows_empty":9}
[{"$nulls":35},"リスト(セルC30とセルP52用)"]
[{"$nulls":35},{"$f":"\"消費税額等\"&T111","v":"消費税額等(8%)"}]
[{"$nulls":35},{"$f":"\"消費税等\"&T111","v":"消費税等(8%)"}]
[{"$nulls":35},{"$f":"\"消費税額\"&T111","v":"消費税額(8%)"}]
[{"$nulls":35},"消費額税等(　　　)"]
{"$rows_empty":9}
[{"$nulls":37},"金額表示リスト","金額桁数"]
["漢数字を選択し表示するを選択した場合の関数式",{"$nulls":18},"消費税率",{"$nulls":4},"消費税の計算",{"$nulls":5},"漢数字",{"$nulls":4},{"$f":"NUMBERSTRING(AJ22,2)","v":""},null,"漢数字",{"$f":"LEN(AJ22)","v":0},"十桁目","九桁目","八桁目","七桁目","六桁目","五桁目","四桁目","三桁目","二桁目","一桁目"]
[{"$f":"IF($R$47=\"\",\"\",$R$47+$S$52)","v":""},{"$nulls":18},{"$f":"IF(メニュー!J90=0,\"(\"&\"　　　\"&\")\",\"(\"&メニュー!J90&\"%\"&\")\")","v":"(8%)"},{"$nulls":4},{"$f":"(AJ22/メニュー!$J$91)*メニュー!$J$90","v":0},{"$nulls":5},"漢数字金額完成",{"$nulls":4},{"$f":"AM3&AJ110&AN3","v":"金也"},null,"チェックライター風",null,{"$f":"RIGHT(AJ22,10)","v":""},{"$f":"RIGHT(AJ22,9)","v":""},{"$f":"RIGHT(AJ22,8)","v":""},{"$f":"RIGHT(AJ22,7)","v":""},{"$f":"RIGHT(AJ22,6)","v":""},{"$f":"RIGHT(AJ22,5)","v":""},{"$f":"RIGHT(AJ22,4)","v":""},{"$f":"RIGHT(AJ22,3)","v":""},{"$f":"RIGHT(AJ22,2)","v":""},{"$f":"RIGHT(AJ22,1)","v":""}]
["セルA111に関数式を入力しています",{"$nulls":23},{"$f":"IF(AJ22=\"\",\"\",IF(Y111<1,0,IF(Y111=0,0,IF(Y111=\"\",0,IF(メニュー!$J$11=\"四捨五入\",ROUND(Y111,0),IF(メニュー!$J$11=\"切り上げる\",ROUNDUP(Y111,0),IF(メニュー!$J$11=\"切り捨てる\",ROUNDDOWN(Y111,0),0)))))))","v":""},{"$nulls":12},"アラビア数字",null,{"$f":"IF(AM110<=9,\"\",LEFT(AN111,1))","v":""},{"$f":"IF(AM110<=8,\"\",LEFT(AO111,1))","v":""},{"$f":"IF(AM110<=7,\"\",LEFT(AP111,1))","v":""},{"$f":"IF(AM110<=6,\"\",LEFT(AQ111,1))","v":""},{"$f":"IF(AM110<=5,\"\",LEFT(AR111,1))","v":""},{"$f":"IF(AM110<=4,\"\",LEFT(AS111,1))","v":""},{"$f":"IF(AM110<=3,\"\",LEFT(AT111,1))","v":""},{"$f":"IF(AM110<=2,\"\",LEFT(AU111,1))","v":""},{"$f":"IF(AM110<=1,\"\",LEFT(AV111,1))","v":""},{"$f":"LEFT(AW111,1)","v":""}]
["消去しないでください",{"$nulls":23},"消費税等（消費税円未満設定）",{"$nulls":5},"チェックライター風",{"$nulls":4},{"$f":"IF(AM110<=5,AL115,AL116)","v":""},null,"アラビア数字+記号"]
[]
[{"$nulls":37},{"$f":"IF(AM110=5,AS119,IF(AM110=4,AT118,IF(AM110=3,AU117,IF(AM110=2,AV116,IF(AM110=1,AW115,\"\")))))","v":""},{"$nulls":10},{"$f":"AO3&AW112&AQ3","v":"＠＊"}]
[{"$nulls":37},{"$f":"IF(AM110=10,AN124,IF(AM110=9,AO123,IF(AM110=8,AP122,IF(AM110=7,AQ121,IF(AM110=6,AR120,\"\")))))","v":""},{"$nulls":9},{"$f":"AO3&AV112&AW112&AQ3","v":"＠＊"}]
[{"$nulls":46},{"$f":"AO3&AU112&AV112&AW112&AQ3","v":"＠＊"},null,{"$f":"AR3&AW112&AT3","v":"￥-"}]
["税込合計",{"$nulls":29},"アラビア数字+記号",{"$nulls":4},{"$f":"IF(AM110<=5,AL120,AL121)","v":""},{"$nulls":9},{"$f":"AO3&AT112&AP3&AU112&AV112&AW112&AQ3","v":"＠,＊"},null,{"$f":"AR3&AV112&AW112&AT3","v":"￥-"}]
["セルA118に文字を入力しています",{"$nulls":43},{"$f":"AO3&AS112&AT112&AP3&AU112&AV112&AW112&AQ3","v":"＠,＊"},null,{"$f":"AR3&AU112&AV112&AW112&AT3","v":"￥-"}]
["消去しないでください",{"$nulls":36},{"$f":"IF(AM110=5,AS121,IF(AM110=4,AT120,IF(AM110=3,AU119,IF(AM110=2,AV118,IF(AM110=1,AW117,\"\")))))","v":""},{"$nulls":5},{"$f":"AO3&AR112&AS112&AT112&AP3&AU112&AV112&AW112&AQ3","v":"＠,＊"},null,{"$f":"AR3&AT112&AS3&AU112&AV112&AW112&AT3","v":"￥,-"}]
[{"$nulls":37},{"$f":"IF(AM110=10,AN126,IF(AM110=9,AO125,IF(AM110=8,AP124,IF(AM110=7,AQ123,IF(AM110=6,AR122,\"\")))))","v":""},{"$nulls":4},{"$f":"AO3&AQ112&AP3&AR112&AS112&AT112&AP3&AU112&AV112&AW112&AQ3","v":"＠,,＊"},null,{"$f":"AR3&AS112&AT112&AS3&AU112&AV112&AW112&AT3","v":"￥,-"}]
[{"$nulls":41},{"$f":"AO3&AP112&AQ112&AP3&AR112&AS112&AT112&AP3&AU112&AV112&AW112&AQ3","v":"＠,,＊"},null,{"$f":"AR3&AR112&AS112&AT112&AS3&AU112&AV112&AW112&AT3","v":"￥,-"}]
[{"$nulls":40},{"$f":"AO3&AO112&AP112&AQ112&AP3&AR112&AS112&AT112&AP3&AU112&AV112&AW112&AQ3","v":"＠,,＊"},null,{"$f":"AR3&AQ112&AS3&AR112&AS112&AT112&AS3&AU112&AV112&AW112&AT3","v":"￥,,-"}]
[{"$nulls":39},{"$f":"AO3&AN112&AP3&AO112&AP112&AQ112&AP3&AR112&AS112&AT112&AP3&AU112&AV112&AW112&AQ3","v":"＠,,,＊"},null,{"$f":"AR3&AP112&AQ112&AS3&AR112&AS112&AT112&AS3&AU112&AV112&AW112&AT3","v":"￥,,-"}]
[{"$nulls":40},{"$f":"AR3&AO112&AP112&AQ112&AS3&AR112&AS112&AT112&AS3&AU112&AV112&AW112&AT3","v":"￥,,-"}]
[{"$nulls":39},{"$f":"AR3&AN112&AS3&AO112&AP112&AQ112&AS3&AR112&AS112&AT112&AS3&AU112&AV112&AW112&AT3","v":"￥,,,-"}]
[{"$nulls":35},"リスト(セルP56)"]
[{"$nulls":35},"税込合計"]
[{"$nulls":35},"金　額"]
[{"$nulls":35},"現　金"]
[{"$nulls":35},"小切手"]
[{"$nulls":35},"手　形"]
[{"$nulls":35},"相　殺"]
[{"$nulls":35},"合　計"]
[{"$nulls":35},"領収証金額"]
[]
[]
[]
[{"$nulls":35},"リスト(セルP61)"]
[{"$nulls":35},"現　金"]
[{"$nulls":35},"小切手"]
[{"$nulls":35},"手　形"]
[{"$nulls":35},"相　殺"]
{"$rows_empty":22}
[{"$nulls":35},"日付リスト",null,"宛先名リスト"]
[{"$nulls":35},"平成２８年　　　月　　　日",null,"宛先名を空白で印刷する"]
[{"$nulls":35},"平成28年　　月　　日"]
[{"$nulls":35},"2016/10/31"]
[{"$nulls":35},"平成２８年１０月３１日"]
[{"$nulls":35},"平成２８年１１月１日"]
[{"$nulls":35},"平成２８年１１月２日"]
[{"$nulls":35},"平成２８年１１月３日"]
[{"$nulls":35},"平成２８年１１月４日"]
[{"$nulls":35},"平成２８年１１月５日"]
[{"$nulls":35},"平成２８年１１月６日"]
[{"$nulls":35},"平成２８年１１月７日"]
[{"$nulls":35},"平成２８年１１月８日"]
[{"$nulls":35},"平成２８年１１月９日"]
[{"$nulls":35},"平成２８年１１月１０日"]
[{"$nulls":35},"平成２８年１１月１１日"]
[{"$nulls":35},"平成２８年１１月１２日"]
[{"$nulls":35},"平成２８年１１月１３日"]
[{"$nulls":35},"平成２８年１１月１４日"]
[{"$nulls":35},"平成２８年１１月１５日"]
[{"$nulls":35},"平成２８年１１月１６日"]
[{"$nulls":35},"平成２８年１１月１７日"]
[{"$nulls":35},"平成２８年１１月１８日"]
[{"$nulls":35},"平成２８年１１月１９日"]
[{"$nulls":35},"平成２８年１１月２０日"]
[{"$nulls":35},"平成２８年１１月２１日"]
[{"$nulls":35},"平成２８年１１月２２日"]
[{"$nulls":35},"平成２８年１１月２３日"]
[{"$nulls":35},"平成２８年１１月２４日"]
[{"$nulls":35},"平成２８年１１月２５日"]
[{"$nulls":35},"平成２８年１１月２６日"]
[{"$nulls":35},"平成２８年１１月２７日"]
[{"$nulls":35},"平成２８年１１月２８日"]
[{"$nulls":35},"平成２８年１１月２９日"]
[{"$nulls":35},"平成２８年１１月３０日"]
[{"$nulls":35},"平成２８年１２月１日"]
[{"$nulls":35},"平成２８年１２月２日"]
[{"$nulls":35},"平成２８年１２月３日"]
[{"$nulls":35},"平成２８年１２月４日"]
[{"$nulls":35},"平成２８年１２月５日"]
[{"$nulls":35},"平成２８年１２月６日"]
[{"$nulls":35},"平成２８年１２月７日"]
[{"$nulls":35},"平成２８年１２月８日"]
[{"$nulls":35},"平成２８年１２月９日"]
[{"$nulls":35},"平成２８年１２月１０日"]
[{"$nulls":35},"平成２８年１２月１１日"]
[{"$nulls":35},"平成２８年１２月１２日"]
[{"$nulls":35},"平成２８年１２月１３日"]
[{"$nulls":35},"平成２８年１２月１４日"]
[{"$nulls":35},"平成２８年１２月１５日"]
[{"$nulls":35},"平成２８年１２月１６日"]
[{"$nulls":35},"平成２８年１２月１７日"]
[{"$nulls":35},"平成２８年１２月１８日"]
[{"$nulls":35},"平成２８年１２月１９日"]
[{"$nulls":35},"平成２８年１２月２０日"]
[{"$nulls":35},"平成２８年１２月２１日"]
[{"$nulls":35},"平成２８年１２月２２日"]
[{"$nulls":35},"平成２８年１２月２３日"]
[{"$nulls":35},"平成２８年１２月２４日"]
[{"$nulls":35},"平成２８年１２月２５日"]
[{"$nulls":35},"平成２８年１２月２６日"]
[{"$nulls":35},"平成２８年１２月２７日"]
[{"$nulls":35},"平成２８年１２月２８日"]
[{"$nulls":35},"平成２８年１２月２９日"]
[{"$nulls":35},"平成２８年１２月３０日"]
[{"$nulls":35},"平成２８年１２月３１日"]
[{"$nulls":35},"平成２９年１月１日"]
[{"$nulls":35},"平成２９年１月２日"]
[{"$nulls":35},"平成２９年１月３日"]
[{"$nulls":35},"平成２９年１月４日"]
[{"$nulls":35},"平成２９年１月５日"]
[{"$nulls":35},"平成２９年１月６日"]
[{"$nulls":35},"平成２９年１月７日"]
[{"$nulls":35},"平成２９年１月８日"]
[{"$nulls":35},"平成２９年１月９日"]
[{"$nulls":35},"平成２９年１月１０日"]
[{"$nulls":35},"平成２９年１月１１日"]
[{"$nulls":35},"平成２９年１月１２日"]
[{"$nulls":35},"平成２９年１月１３日"]
[{"$nulls":35},"平成２９年１月１４日"]
[{"$nulls":35},"平成２９年１月１５日"]
[{"$nulls":35},"平成２９年１月１６日"]
[{"$nulls":35},"平成２９年１月１７日"]
[{"$nulls":35},"平成２９年１月１８日"]
[{"$nulls":35},"平成２９年１月１９日"]
[{"$nulls":35},"平成２９年１月２０日"]
[{"$nulls":35},"平成２９年１月２１日"]
[{"$nulls":35},"平成２９年１月２２日"]
[{"$nulls":35},"平成２９年１月２３日"]
[{"$nulls":35},"平成２９年１月２４日"]
[{"$nulls":35},"平成２９年１月２５日"]
[{"$nulls":35},"平成２９年１月２６日"]
[{"$nulls":35},"平成２９年１月２７日"]
[{"$nulls":35},"平成２９年１月２８日"]
[{"$nulls":35},"平成２９年１月２９日"]
[{"$nulls":35},"平成２９年１月３０日"]
[{"$nulls":35},"平成２９年１月３１日"]
[{"$nulls":35},"平成２９年２月１日"]
[{"$nulls":35},"平成２９年２月２日"]
[{"$nulls":35},"平成２９年２月３日"]
[{"$nulls":35},"平成２９年２月４日"]
[{"$nulls":35},"平成２９年２月５日"]
[{"$nulls":35},"平成２９年２月６日"]
[{"$nulls":35},"平成２９年２月７日"]
[{"$nulls":35},"平成２９年２月８日"]
[{"$nulls":35},"平成２９年２月９日"]
[{"$nulls":35},"平成２９年２月１０日"]
[{"$nulls":35},"平成２９年２月１１日"]
[{"$nulls":35},"平成２９年２月１２日"]
[{"$nulls":35},"平成２９年２月１３日"]
[{"$nulls":35},"平成２９年２月１４日"]
[{"$nulls":35},"平成２９年２月１５日"]
[{"$nulls":35},"平成２９年２月１６日"]
[{"$nulls":35},"平成２９年２月１７日"]
[{"$nulls":35},"平成２９年２月１８日"]
[{"$nulls":35},"平成２９年２月１９日"]
[{"$nulls":35},"平成２９年２月２０日"]
[{"$nulls":35},"平成２９年２月２１日"]
[{"$nulls":35},"平成２９年２月２２日"]
[{"$nulls":35},"平成２９年２月２３日"]
[{"$nulls":35},"平成２９年２月２４日"]
[{"$nulls":35},"平成２９年２月２５日"]
[{"$nulls":35},"平成２９年２月２６日"]
[{"$nulls":35},"平成２９年２月２７日"]
[{"$nulls":35},"平成２９年２月２８日"]
[{"$nulls":35},"平成２９年３月１日"]
[{"$nulls":35},"平成２９年３月２日"]
[{"$nulls":35},"平成２９年３月３日"]
[{"$nulls":35},"平成２９年３月４日"]
[{"$nulls":35},"平成２９年３月５日"]
[{"$nulls":35},"平成２９年３月６日"]
[{"$nulls":35},"平成２９年３月７日"]
[{"$nulls":35},"平成２９年３月８日"]
[{"$nulls":35},"平成２９年３月９日"]
[{"$nulls":35},"平成２９年３月１０日"]
[{"$nulls":35},"平成２９年３月１１日"]
[{"$nulls":35},"平成２９年３月１２日"]
[{"$nulls":35},"平成２９年３月１３日"]
[{"$nulls":35},"平成２９年３月１４日"]
[{"$nulls":35},"平成２９年３月１５日"]
[{"$nulls":35},"平成２９年３月１６日"]
[{"$nulls":35},"平成２９年３月１７日"]
[{"$nulls":35},"平成２９年３月１８日"]
[{"$nulls":35},"平成２９年３月１９日"]
[{"$nulls":35},"平成２９年３月２０日"]
[{"$nulls":35},"平成２９年３月２１日"]
[{"$nulls":35},"平成２９年３月２２日"]
[{"$nulls":35},"平成２９年３月２３日"]
[{"$nulls":35},"平成２９年３月２４日"]
[{"$nulls":35},"平成２９年３月２５日"]
[{"$nulls":35},"平成２９年３月２６日"]
[{"$nulls":35},"平成２９年３月２７日"]
[{"$nulls":35},"平成２９年３月２８日"]
[{"$nulls":35},"平成２９年３月２９日"]
[{"$nulls":35},"平成２９年３月３０日"]
[{"$nulls":35},"平成２９年３月３１日"]
[{"$nulls":35},"平成２９年４月１日"]
[{"$nulls":35},"平成２９年４月２日"]
[{"$nulls":35},"平成２９年４月３日"]
[{"$nulls":35},"平成２９年４月４日"]
[{"$nulls":35},"平成２９年４月５日"]
[{"$nulls":35},"平成２９年４月６日"]
[{"$nulls":35},"平成２９年４月７日"]
[{"$nulls":35},"平成２９年４月８日"]
[{"$nulls":35},"平成２９年４月９日"]
[{"$nulls":35},"平成２９年４月１０日"]
[{"$nulls":35},"平成２９年４月１１日"]
[{"$nulls":35},"平成２９年４月１２日"]
[{"$nulls":35},"平成２９年４月１３日"]
[{"$nulls":35},"平成２９年４月１４日"]
[{"$nulls":35},"平成２９年４月１５日"]
[{"$nulls":35},"平成２９年４月１６日"]
[{"$nulls":35},"平成２９年４月１７日"]
[{"$nulls":35},"平成２９年４月１８日"]
[{"$nulls":35},"平成２９年４月１９日"]
[{"$nulls":35},"平成２９年４月２０日"]
[{"$nulls":35},"平成２９年４月２１日"]
[{"$nulls":35},"平成２９年４月２２日"]
[{"$nulls":35},"平成２９年４月２３日"]
[{"$nulls":35},"平成２９年４月２４日"]
[{"$nulls":35},"平成２９年４月２５日"]
[{"$nulls":35},"平成２９年４月２６日"]
[{"$nulls":35},"平成２９年４月２７日"]
[{"$nulls":35},"平成２９年４月２８日"]
[{"$nulls":35},"平成２９年４月２９日"]
[{"$nulls":35},"平成２９年４月３０日"]
[{"$nulls":35},"平成２９年５月１日"]
[{"$nulls":35},"平成２９年５月２日"]
[{"$nulls":35},"平成２９年５月３日"]
[{"$nulls":35},"平成２９年５月４日"]
[{"$nulls":35},"平成２９年５月５日"]
[{"$nulls":35},"平成２９年５月６日"]
[{"$nulls":35},"平成２９年５月７日"]
[{"$nulls":35},"平成２９年５月８日"]
[{"$nulls":35},"平成２９年５月９日"]
[{"$nulls":35},"平成２９年５月１０日"]
[{"$nulls":35},"平成２９年５月１１日"]
[{"$nulls":35},"平成２９年５月１２日"]
[{"$nulls":35},"平成２９年５月１３日"]
[{"$nulls":35},"平成２９年５月１４日"]
[{"$nulls":35},"平成２９年５月１５日"]
[{"$nulls":35},"平成２９年５月１６日"]
[{"$nulls":35},"平成２９年５月１７日"]
[{"$nulls":35},"平成２９年５月１８日"]
[{"$nulls":35},"平成２９年５月１９日"]
[{"$nulls":35},"平成２９年５月２０日"]
[{"$nulls":35},"平成２９年５月２１日"]
[{"$nulls":35},"平成２９年５月２２日"]
[{"$nulls":35},"平成２９年５月２３日"]
[{"$nulls":35},"平成２９年５月２４日"]
[{"$nulls":35},"平成２９年５月２５日"]
[{"$nulls":35},"平成２９年５月２６日"]
[{"$nulls":35},"平成２９年５月２７日"]
[{"$nulls":35},"平成２９年５月２８日"]
[{"$nulls":35},"平成２９年５月２９日"]
[{"$nulls":35},"平成２９年５月３０日"]
[{"$nulls":35},"平成２９年５月３１日"]
[{"$nulls":35},"平成２９年６月１日"]
[{"$nulls":35},"平成２９年６月２日"]
[{"$nulls":35},"平成２９年６月３日"]
[{"$nulls":35},"平成２９年６月４日"]
[{"$nulls":35},"平成２９年６月５日"]
[{"$nulls":35},"平成２９年６月６日"]
[{"$nulls":35},"平成２９年６月７日"]
[{"$nulls":35},"平成２９年６月８日"]
[{"$nulls":35},"平成２９年６月９日"]
[{"$nulls":35},"平成２９年６月１０日"]
[{"$nulls":35},"平成２９年６月１１日"]
[{"$nulls":35},"平成２９年６月１２日"]
[{"$nulls":35},"平成２９年６月１３日"]
[{"$nulls":35},"平成２９年６月１４日"]
[{"$nulls":35},"平成２９年６月１５日"]
[{"$nulls":35},"平成２９年６月１６日"]
[{"$nulls":35},"平成２９年６月１７日"]
[{"$nulls":35},"平成２９年６月１８日"]
[{"$nulls":35},"平成２９年６月１９日"]
[{"$nulls":35},"平成２９年６月２０日"]
[{"$nulls":35},"平成２９年６月２１日"]
[{"$nulls":35},"平成２９年６月２２日"]
[{"$nulls":35},"平成２９年６月２３日"]
[{"$nulls":35},"平成２９年６月２４日"]
[{"$nulls":35},"平成２９年６月２５日"]
[{"$nulls":35},"平成２９年６月２６日"]
[{"$nulls":35},"平成２９年６月２７日"]
[{"$nulls":35},"平成２９年６月２８日"]
[{"$nulls":35},"平成２９年６月２９日"]
[{"$nulls":35},"平成２９年６月３０日"]
[{"$nulls":35},"平成２９年７月１日"]
[{"$nulls":35},"平成２９年７月２日"]
[{"$nulls":35},"平成２９年７月３日"]
[{"$nulls":35},"平成２９年７月４日"]
[{"$nulls":35},"平成２９年７月５日"]
[{"$nulls":35},"平成２９年７月６日"]
[{"$nulls":35},"平成２９年７月７日"]
[{"$nulls":35},"平成２９年７月８日"]
[{"$nulls":35},"平成２９年７月９日"]
[{"$nulls":35},"平成２９年７月１０日"]
[{"$nulls":35},"平成２９年７月１１日"]
[{"$nulls":35},"平成２９年７月１２日"]
[{"$nulls":35},"平成２９年７月１３日"]
[{"$nulls":35},"平成２９年７月１４日"]
[{"$nulls":35},"平成２９年７月１５日"]
[{"$nulls":35},"平成２９年７月１６日"]
[{"$nulls":35},"平成２９年７月１７日"]
[{"$nulls":35},"平成２９年７月１８日"]
[{"$nulls":35},"平成２９年７月１９日"]
[{"$nulls":35},"平成２９年７月２０日"]
[{"$nulls":35},"平成２９年７月２１日"]
[{"$nulls":35},"平成２９年７月２２日"]
[{"$nulls":35},"平成２９年７月２３日"]
[{"$nulls":35},"平成２９年７月２４日"]
[{"$nulls":35},"平成２９年７月２５日"]
[{"$nulls":35},"平成２９年７月２６日"]
[{"$nulls":35},"平成２９年７月２７日"]
[{"$nulls":35},"平成２９年７月２８日"]
[{"$nulls":35},"平成２９年７月２９日"]
[{"$nulls":35},"平成２９年７月３０日"]
[{"$nulls":35},"平成２９年７月３１日"]
[{"$nulls":35},"平成２９年８月１日"]
[{"$nulls":35},"平成２９年８月２日"]
[{"$nulls":35},"平成２９年８月３日"]
[{"$nulls":35},"平成２９年８月４日"]
[{"$nulls":35},"平成２９年８月５日"]
[{"$nulls":35},"平成２９年８月６日"]
[{"$nulls":35},"平成２９年８月７日"]
[{"$nulls":35},"平成２９年８月８日"]
[{"$nulls":35},"平成２９年８月９日"]
[{"$nulls":35},"平成２９年８月１０日"]
[{"$nulls":35},"平成２９年８月１１日"]
[{"$nulls":35},"平成２９年８月１２日"]
[{"$nulls":35},"平成２９年８月１３日"]
[{"$nulls":35},"平成２９年８月１４日"]
[{"$nulls":35},"平成２９年８月１５日"]
[{"$nulls":35},"平成２９年８月１６日"]
[{"$nulls":35},"平成２９年８月１７日"]
[{"$nulls":35},"平成２９年８月１８日"]
[{"$nulls":35},"平成２９年８月１９日"]
[{"$nulls":35},"平成２９年８月２０日"]
[{"$nulls":35},"平成２９年８月２１日"]
[{"$nulls":35},"平成２９年８月２２日"]
[{"$nulls":35},"平成２９年８月２３日"]
[{"$nulls":35},"平成２９年８月２４日"]
[{"$nulls":35},"平成２９年８月２５日"]
[{"$nulls":35},"平成２９年８月２６日"]
[{"$nulls":35},"平成２９年８月２７日"]
[{"$nulls":35},"平成２９年８月２８日"]
[{"$nulls":35},"平成２９年８月２９日"]
[{"$nulls":35},"平成２９年８月３０日"]
[{"$nulls":35},"平成２９年８月３１日"]
[{"$nulls":35},"平成２９年９月１日"]
[{"$nulls":35},"平成２９年９月２日"]
[{"$nulls":35},"平成２９年９月３日"]
[{"$nulls":35},"平成２９年９月４日"]
[{"$nulls":35},"平成２９年９月５日"]
[{"$nulls":35},"平成２９年９月６日"]
[{"$nulls":35},"平成２９年９月７日"]
[{"$nulls":35},"平成２９年９月８日"]
[{"$nulls":35},"平成２９年９月９日"]
[{"$nulls":35},"平成２９年９月１０日"]
[{"$nulls":35},"平成２９年９月１１日"]
[{"$nulls":35},"平成２９年９月１２日"]
[{"$nulls":35},"平成２９年９月１３日"]
[{"$nulls":35},"平成２９年９月１４日"]
[{"$nulls":35},"平成２９年９月１５日"]
[{"$nulls":35},"平成２９年９月１６日"]
[{"$nulls":35},"平成２９年９月１７日"]
[{"$nulls":35},"平成２９年９月１８日"]
[{"$nulls":35},"平成２９年９月１９日"]
[{"$nulls":35},"平成２９年９月２０日"]
[{"$nulls":35},"平成２９年９月２１日"]
[{"$nulls":35},"平成２９年９月２２日"]
[{"$nulls":35},"平成２９年９月２３日"]
[{"$nulls":35},"平成２９年９月２４日"]
[{"$nulls":35},"平成２９年９月２５日"]
[{"$nulls":35},"平成２９年９月２６日"]
[{"$nulls":35},"平成２９年９月２７日"]
[{"$nulls":35},"平成２９年９月２８日"]
[{"$nulls":35},"平成２９年９月２９日"]
[{"$nulls":35},"平成２９年９月３０日"]
[{"$nulls":35},"平成２９年１０月１日"]
[{"$nulls":35},"平成２９年１０月２日"]
[{"$nulls":35},"平成２９年１０月３日"]
[{"$nulls":35},"平成２９年１０月４日"]
[{"$nulls":35},"平成２９年１０月５日"]
[{"$nulls":35},"平成２９年１０月６日"]
[{"$nulls":35},"平成２９年１０月７日"]
[{"$nulls":35},"平成２９年１０月８日"]
[{"$nulls":35},"平成２９年１０月９日"]
[{"$nulls":35},"平成２９年１０月１０日"]
[{"$nulls":35},"平成２９年１０月１１日"]
[{"$nulls":35},"平成２９年１０月１２日"]
[{"$nulls":35},"平成２９年１０月１３日"]
[{"$nulls":35},"平成２９年１０月１４日"]
[{"$nulls":35},"平成２９年１０月１５日"]
[{"$nulls":35},"平成２９年１０月１６日"]
[{"$nulls":35},"平成２９年１０月１７日"]
[{"$nulls":35},"平成２９年１０月１８日"]
[{"$nulls":35},"平成２９年１０月１９日"]
[{"$nulls":35},"平成２９年１０月２０日"]
[{"$nulls":35},"平成２９年１０月２１日"]
[{"$nulls":35},"平成２９年１０月２２日"]
[{"$nulls":35},"平成２９年１０月２３日"]
[{"$nulls":35},"平成２９年１０月２４日"]
[{"$nulls":35},"平成２９年１０月２５日"]
[{"$nulls":35},"平成２９年１０月２６日"]
[{"$nulls":35},"平成２９年１０月２７日"]
[{"$nulls":35},"平成２９年１０月２８日"]
[{"$nulls":35},"平成２９年１０月２９日"]
[{"$nulls":35},"平成２９年１０月３０日"]
[{"$nulls":35},"平成２９年１０月３１日"]
[{"$nulls":35},"平成２９年１１月１日"]
[{"$nulls":35},"平成２９年１１月２日"]
[{"$nulls":35},"平成２９年１１月３日"]
[{"$nulls":35},"平成２９年１１月４日"]
[{"$nulls":35},"平成２９年１１月５日"]
[{"$nulls":35},"平成２９年１１月６日"]
[{"$nulls":35},"平成２９年１１月７日"]
[{"$nulls":35},"平成２９年１１月８日"]
[{"$nulls":35},"平成２９年１１月９日"]
[{"$nulls":35},"平成２９年１１月１０日"]
[{"$nulls":35},"平成２９年１１月１１日"]
[{"$nulls":35},"平成２９年１１月１２日"]
[{"$nulls":35},"平成２９年１１月１３日"]
[{"$nulls":35},"平成２９年１１月１４日"]
[{"$nulls":35},"平成２９年１１月１５日"]
[{"$nulls":35},"平成２９年１１月１６日"]
[{"$nulls":35},"平成２９年１１月１７日"]
[{"$nulls":35},"平成２９年１１月１８日"]
[{"$nulls":35},"平成２９年１１月１９日"]
[{"$nulls":35},"平成２９年１１月２０日"]
[{"$nulls":35},"平成２９年１１月２１日"]
[{"$nulls":35},"平成２９年１１月２２日"]
[{"$nulls":35},"平成２９年１１月２３日"]
[{"$nulls":35},"平成２９年１１月２４日"]
[{"$nulls":35},"平成２９年１１月２５日"]
[{"$nulls":35},"平成２９年１１月２６日"]
[{"$nulls":35},"平成２９年１１月２７日"]
[{"$nulls":35},"平成２９年１１月２８日"]
[{"$nulls":35},"平成２９年１１月２９日"]
[{"$nulls":35},"平成２９年１１月３０日"]
[{"$nulls":35},"平成２９年１２月１日"]
[{"$nulls":35},"平成２９年１２月２日"]
[{"$nulls":35},"平成２９年１２月３日"]
[{"$nulls":35},"平成２９年１２月４日"]
[{"$nulls":35},"平成２９年１２月５日"]
[{"$nulls":35},"平成２９年１２月６日"]
[{"$nulls":35},"平成２９年１２月７日"]
[{"$nulls":35},"平成２９年１２月８日"]
[{"$nulls":35},"平成２９年１２月９日"]
[{"$nulls":35},"平成２９年１２月１０日"]
[{"$nulls":35},"平成２９年１２月１１日"]
[{"$nulls":35},"平成２９年１２月１２日"]
[{"$nulls":35},"平成２９年１２月１３日"]
[{"$nulls":35},"平成２９年１２月１４日"]
[{"$nulls":35},"平成２９年１２月１５日"]
[{"$nulls":35},"平成２９年１２月１６日"]
[{"$nulls":35},"平成２９年１２月１７日"]
[{"$nulls":35},"平成２９年１２月１８日"]
[{"$nulls":35},"平成２９年１２月１９日"]
[{"$nulls":35},"平成２９年１２月２０日"]
[{"$nulls":35},"平成２９年１２月２１日"]
[{"$nulls":35},"平成２９年１２月２２日"]
[{"$nulls":35},"平成２９年１２月２３日"]
[{"$nulls":35},"平成２９年１２月２４日"]
[{"$nulls":35},"平成２９年１２月２５日"]
[{"$nulls":35},"平成２９年１２月２６日"]
[{"$nulls":35},"平成２９年１２月２７日"]
[{"$nulls":35},"平成２９年１２月２８日"]
[{"$nulls":35},"平成２９年１２月２９日"]
[{"$nulls":35},"平成２９年１２月３０日"]
[{"$nulls":35},"平成２９年１２月３１日"]
[{"$nulls":35},"平成３０年１月１日"]
[{"$nulls":35},"平成３０年１月２日"]
[{"$nulls":35},"平成３０年１月３日"]
[{"$nulls":35},"平成３０年１月４日"]
[{"$nulls":35},"平成３０年１月５日"]
[{"$nulls":35},"平成３０年１月６日"]
[{"$nulls":35},"平成３０年１月７日"]
[{"$nulls":35},"平成３０年１月８日"]
[{"$nulls":35},"平成３０年１月９日"]
[{"$nulls":35},"平成３０年１月１０日"]
[{"$nulls":35},"平成３０年１月１１日"]
[{"$nulls":35},"平成３０年１月１２日"]
[{"$nulls":35},"平成３０年１月１３日"]
[{"$nulls":35},"平成３０年１月１４日"]
[{"$nulls":35},"平成３０年１月１５日"]
[{"$nulls":35},"平成３０年１月１６日"]
[{"$nulls":35},"平成３０年１月１７日"]
[{"$nulls":35},"平成３０年１月１８日"]
[{"$nulls":35},"平成３０年１月１９日"]
[{"$nulls":35},"平成３０年１月２０日"]
[{"$nulls":35},"平成３０年１月２１日"]
[{"$nulls":35},"平成３０年１月２２日"]
[{"$nulls":35},"平成３０年１月２３日"]
[{"$nulls":35},"平成３０年１月２４日"]
[{"$nulls":35},"平成３０年１月２５日"]
[{"$nulls":35},"平成３０年１月２６日"]
[{"$nulls":35},"平成３０年１月２７日"]
[{"$nulls":35},"平成３０年１月２８日"]
[{"$nulls":35},"平成３０年１月２９日"]
[{"$nulls":35},"平成３０年１月３０日"]
[{"$nulls":35},"平成３０年１月３１日"]
[{"$nulls":35},"平成３０年２月１日"]
[{"$nulls":35},"平成３０年２月２日"]
[{"$nulls":35},"平成３０年２月３日"]
[{"$nulls":35},"平成３０年２月４日"]
[{"$nulls":35},"平成３０年２月５日"]
[{"$nulls":35},"平成３０年２月６日"]
[{"$nulls":35},"平成３０年２月７日"]
[{"$nulls":35},"平成３０年２月８日"]
[{"$nulls":35},"平成３０年２月９日"]
[{"$nulls":35},"平成３０年２月１０日"]
[{"$nulls":35},"平成３０年２月１１日"]
[{"$nulls":35},"平成３０年２月１２日"]
[{"$nulls":35},"平成３０年２月１３日"]
[{"$nulls":35},"平成３０年２月１４日"]
[{"$nulls":35},"平成３０年２月１５日"]
[{"$nulls":35},"平成３０年２月１６日"]
[{"$nulls":35},"平成３０年２月１７日"]
[{"$nulls":35},"平成３０年２月１８日"]

{"sheet":"領収証履歴データベース前","index":2,"n_rows":11,"n_cols":31,"rows_kept":11,"hidden":true}
{"$rows_empty":9}
[null,"顧客名ID","顧客名","請求金額","領収金額","但書き（上段）","但書き（下段）","領収証発行日付","控項目名1","控項目名1内容","控項目名2","控項目名2内容","控項目名3","控項目名3内容","控項目名4","控項目名4内容","担当者ID","担当者","備考","メモ","領収証印刷日","領収証項目名1","領収証項目名1内容","領収証項目名2","領収証項目名2内容","領収証項目名3","領収証項目名3内容","領収証項目名4","領収証項目名4内容","領収証項目名5","領収証項目名5内容"]
[null,null,{"$f":"IF(領収証入力シート!R10=\"\",\"\",領収証入力シート!R10)","v":""},{"$f":"IF(領収証入力シート!F16=\"\",\"\",領収証入力シート!F16)","v":""},{"$f":"IF(領収証入力シート!S17=\"\",\"\",領収証入力シート!S17)","v":""},{"$f":"IF(領収証入力シート!R30=\"\",\"\",領収証入力シート!R30)","v":""},{"$f":"IF(領収証入力シート!R35=\"\",\"\",領収証入力シート!R35)","v":""},{"$f":"IF(領収証入力シート!Q39=\"\",\"\",領収証入力シート!Q39)","v":""},{"$f":"IF(領収証入力シート!C25=\"\",\"\",領収証入力シート!C25)","v":"税抜金額"},{"$f":"IF(領収証入力シート!F25=\"\",\"\",領収証入力シート!F25)","v":""},{"$f":"IF(領収証入力シート!C30=\"\",\"\",領収証入力シート!C30)","v":"消費税額等(8%)"},{"$f":"IF(領収証入力シート!G30=\"\",\"\",領収証入力シート!G30)","v":""},{"$f":"IF(領収証入力シート!C35=\"\",\"\",領収証入力シート!C35)","v":"現　金"},{"$f":"IF(領収証入力シート!F35=\"\",\"\",領収証入力シート!F35)","v":""},{"$f":"IF(領収証入力シート!C39=\"\",\"\",領収証入力シート!C39)","v":"小切手"},{"$f":"IF(領収証入力シート!F39=\"\",\"\",領収証入力シート!F39)","v":""},{"$nulls":5},{"$f":"IF(領収証入力シート!P43=\"\",\"\",領収証入力シート!P43)","v":"内　訳"},{"$f":"IF(領収証入力シート!R43=\"\",\"\",領収証入力シート!R43)","v":""},{"$f":"IF(領収証入力シート!P47=\"\",\"\",領収証入力シート!P47)","v":"税抜金額"},{"$f":"IF(領収証入力シート!R47=\"\",\"\",領収証入力シート!R47)","v":""},{"$f":"IF(領収証入力シート!P52=\"\",\"\",領収証入力シート!P52)","v":"消費税額等(8%)"},{"$f":"IF(領収証入力シート!S52=\"\",\"\",領収証入力シート!S52)","v":""},{"$f":"IF(領収証入力シート!P56=\"\",\"\",領収証入力シート!P56)","v":"現　金"},{"$f":"IF(領収証入力シート!R56=\"\",\"\",領収証入力シート!R56)","v":""},{"$f":"IF(領収証入力シート!P61=\"\",\"\",領収証入力シート!P61)","v":"小切手"},{"$f":"IF(領収証入力シート!R61=\"\",\"\",領収証入力シート!R61)","v":""}]

{"sheet":"領収証履歴データベース","index":3,"n_rows":10,"n_cols":31,"rows_kept":10,"merged":[[0,1,0,2],[1,1,1,2]]}
[null,"領収証データ転送先頭番号",{"$nulls":24},"E列を基準に、列スクロール量を調整できます"]
[null,"領収証データ転送末尾番号",{"$nulls":24},"№1　の列スクロール量",null,null,8]
[{"$nulls":26},"№2　の列スクロール量",null,null,15]
[{"$nulls":26},"　0 から 21 くらい、の範囲で入力して下さい"]
[]
[]
[]
[]
[]
["領収証ID","顧客名ID","顧客名","請求金額","領収金額","但書き（上段）","但書き（下段）","領収証発行日付","控項目名1","控項目名1内容","控項目名2","控項目名2内容","控項目名3","控項目名3内容","控項目名4","控項目名4内容","担当者ID","担当者","備考","メモ","領収証印刷日","領収証項目名1","領収証項目名1内容","領収証項目名2","領収証項目名2内容","領収証項目名3","領収証項目名3内容","領収証項目名4","領収証項目名4内容","領収証項目名5","領収証項目名5内容"]

{"sheet":"領収証印刷データ","index":4,"n_rows":1010,"n_cols":32,"rows_kept":1010}
["領収証印刷データ"]
{"$rows_empty":8}
["行番号","領収証ID","顧客名ID","顧客名","請求金額","領収金額","但書き（上段）","但書き（下段）","領収証発行日付","控項目名1","控項目名1内容","控項目名2","控項目名2内容","控項目名3","控項目名3内容","控項目名4","控項目名4内容","担当者ID","担当者","備考","メモ","領収証印刷日","領収証項目名1","領収証項目名1内容","領収証項目名2","領収証項目名2内容","領収証項目名3","領収証項目名3内容","領収証項目名4","領収証項目名4内容","領収証項目名5","領収証項目名5内容"]
[1]
[2]
[3]
[4]
[5]
[6]
[7]
[8]
[9]
[10]
[11]
[12]
[13]
[14]
[15]
[16]
[17]
[18]
[19]
[20]
[21]
[22]
[23]
[24]
[25]
[26]
[27]
[28]
[29]
[30]
[31]
[32]
[33]
[34]
[35]
[36]
[37]
[38]
[39]
[40]
[41]
[42]
[43]
[44]
[45]
[46]
[47]
[48]
[49]
[50]
[51]
[52]
[53]
[54]
[55]
[56]
[57]
[58]
[59]
[60]
[61]
[62]
[63]
[64]
[65]
[66]
[67]
[68]
[69]
[70]
[71]
[72]
[73]
[74]
[75]
[76]
[77]
[78]
[79]
[80]
[81]
[82]
[83]
[84]
[85]
[86]
[87]
[88]
[89]
[90]
[91]
[92]
[93]
[94]
[95]
[96]
[97]
[98]
[99]
[100]
[101]
[102]
[103]
[104]
[105]
[106]
[107]
[108]
[109]
[110]
[111]
[112]
[113]
[114]
[115]
[116]
[117]
[118]
[119]
[120]
[121]
[122]
[123]
[124]
[125]
[126]
[127]
[128]
[129]
[130]
[131]
[132]
[133]
[134]
[135]
[136]
[137]
[138]
[139]
[140]
[141]
[142]
[143]
[144]
[145]
[146]
[147]
[148]
[149]
[150]
[151]
[152]
[153]
[154]
[155]
[156]
[157]
[158]
[159]
[160]
[161]
[162]
[163]
[164]
[165]
[166]
[167]
[168]
[169]
[170]
[171]
[172]
[173]
[174]
[175]
[176]
[177]
[178]
[179]
[180]
[181]
[182]
[183]
[184]
[185]
[186]
[187]
[188]
[189]
[190]
[191]
[192]
[193]
[194]
[195]
[196]
[197]
[198]
[199]
[200]
[201]
[202]
[203]
[204]
[205]
[206]
[207]
[208]
[209]
[210]
[211]
[212]
[213]
[214]
[215]
[216]
[217]
[218]
[219]
[220]
[221]
[222]
[223]
[224]
[225]
[226]
[227]
[228]
[229]
[230]
[231]
[232]
[233]
[234]
[235]
[236]
[237]
[238]
[239]
[240]
[241]
[242]
[243]
[244]
[245]
[246]
[247]
[248]
[249]
[250]
[251]
[252]
[253]
[254]
[255]
[256]
[257]
[258]
[259]
[260]
[261]
[262]
[263]
[264]
[265]
[266]
[267]
[268]
[269]
[270]
[271]
[272]
[273]
[274]
[275]
[276]
[277]
[278]
[279]
[280]
[281]
[282]
[283]
[284]
[285]
[286]
[287]
[288]
[289]
[290]
[291]
[292]
[293]
[294]
[295]
[296]
[297]
[298]
[299]
[300]
[301]
[302]
[303]
[304]
[305]
[306]
[307]
[308]
[309]
[310]
[311]
[312]
[313]
[314]
[315]
[316]
[317]
[318]
[319]
[320]
[321]
[322]
[323]
[324]
[325]
[326]
[327]
[328]
[329]
[330]
[331]
[332]
[333]
[334]
[335]
[336]
[337]
[338]
[339]
[340]
[341]
[342]
[343]
[344]
[345]
[346]
[347]
[348]
[349]
[350]
[351]
[352]
[353]
[354]
[355]
[356]
[357]
[358]
[359]
[360]
[361]
[362]
[363]
[364]
[365]
[366]
[367]
[368]
[369]
[370]
[371]
[372]
[373]
[374]
[375]
[376]
[377]
[378]
[379]
[380]
[381]
[382]
[383]
[384]
[385]
[386]
[387]
[388]
[389]
[390]
[391]
[392]
[393]
[394]
[395]
[396]
[397]
[398]
[399]
[400]
[401]
[402]
[403]
[404]
[405]
[406]
[407]
[408]
[409]
[410]
[411]
[412]
[413]
[414]
[415]
[416]
[417]
[418]
[419]
[420]
[421]
[422]
[423]
[424]
[425]
[426]
[427]
[428]
[429]
[430]
[431]
[432]
[433]
[434]
[435]
[436]
[437]
[438]
[439]
[440]
[441]
[442]
[443]
[444]
[445]
[446]
[447]
[448]
[449]
[450]
[451]
[452]
[453]
[454]
[455]
[456]
[457]
[458]
[459]
[460]
[461]
[462]
[463]
[464]
[465]
[466]
[467]
[468]
[469]
[470]
[471]
[472]
[473]
[474]
[475]
[476]
[477]
[478]
[479]
[480]
[481]
[482]
[483]
[484]
[485]
[486]
[487]
[488]
[489]
[490]
[491]
[492]
[493]
[494]
[495]
[496]
[497]
[498]
[499]
[500]
[501]
[502]
[503]
[504]
[505]
[506]
[507]
[508]
[509]
[510]
[511]
[512]
[513]
[514]
[515]
[516]
[517]
[518]
[519]
[520]
[521]
[522]
[523]
[524]
[525]
[526]
[527]
[528]
[529]
[530]
[531]
[532]
[533]
[534]
[535]
[536]
[537]
[538]
[539]
[540]
[541]
[542]
[543]
[544]
[545]
[546]
[547]
[548]
[549]
[550]
[551]
[552]
[553]
[554]
[555]
[556]
[557]
[558]
[559]
[560]
[561]
[562]
[563]
[564]
[565]
[566]
[567]
[568]
[569]
[570]
[571]
[572]
[573]
[574]
[575]
[576]
[577]
[578]
[579]
[580]
[581]
[582]
[583]
[584]
[585]
[586]
[587]
[588]
[589]
[590]
[591]
[592]
[593]
[594]
[595]
[596]
[597]
[598]
[599]
[600]
[601]
[602]
[603]
[604]
[605]
[606]
[607]
[608]
[609]
[610]
[611]
[612]
[613]
[614]
[615]
[616]
[617]
[618]
[619]
[620]
[621]
[622]
[623]
[624]
[625]
[626]
[627]
[628]
[629]
[630]
[631]
[632]
[633]
[634]
[635]
[636]
[637]
[638]
[639]
[640]
[641]
[642]
[643]
[644]
[645]
[646]
[647]
[648]
[649]
[650]
[651]
[652]
[653]
[654]
[655]
[656]
[657]
[658]
[659]
[660]
[661]
[662]
[663]
[664]
[665]
[666]
[667]
[668]
[669]
[670]
[671]
[672]
[673]
[674]
[675]
[676]
[677]
[678]
[679]
[680]
[681]
[682]
[683]
[684]
[685]
[686]
[687]
[688]
[689]
[690]
[691]
[692]
[693]
[694]
[695]
[696]
[697]
[698]
[699]
[700]
[701]
[702]
[703]
[704]
[705]
[706]
[707]
[708]
[709]
[710]
[711]
[712]
[713]
[714]
[715]
[716]
[717]
[718]
[719]
[720]
[721]
[722]
[723]
[724]
[725]
[726]
[727]
[728]
[729]
[730]
[731]
[732]
[733]
[734]
[735]
[736]
[737]
[738]
[739]
[740]
[741]
[742]
[743]
[744]
[745]
[746]
[747]
[748]
[749]
[750]
[751]
[752]
[753]
[754]
[755]
[756]
[757]
[758]
[759]
[760]
[761]
[762]
[763]
[764]
[765]
[766]
[767]
[768]
[769]
[770]
[771]
[772]
[773]
[774]
[775]
[776]
[777]
[778]
[779]
[780]
[781]
[782]
[783]
[784]
[785]
[786]
[787]
[788]
[789]
[790]
[791]
[792]
[793]
[794]
[795]
[796]
[797]
[798]
[799]
[800]
[801]
[802]
[803]
[804]
[805]
[806]
[807]
[808]
[809]
[810]
[811]
[812]
[813]
[814]
[815]
[816]
[817]
[818]
[819]
[820]
[821]
[822]
[823]
[824]
[825]
[826]
[827]
[828]
[829]
[830]
[831]
[832]
[833]
[834]
[835]
[836]
[837]
[838]
[839]
[840]
[841]
[842]
[843]
[844]
[845]
[846]
[847]
[848]
[849]
[850]
[851]
[852]
[853]
[854]
[855]
[856]
[857]
[858]
[859]
[860]
[861]
[862]
[863]
[864]
[865]
[866]
[867]
[868]
[869]
[870]
[871]
[872]
[873]
[874]
[875]
[876]
[877]
[878]
[879]
[880]
[881]
[882]
[883]
[884]
[885]
[886]
[887]
[888]
[889]
[890]
[891]
[892]
[893]
[894]
[895]
[896]
[897]
[898]
[899]
[900]
[901]
[902]
[903]
[904]
[905]
[906]
[907]
[908]
[909]
[910]
[911]
[912]
[913]
[914]
[915]
[916]
[917]
[918]
[919]
[920]
[921]
[922]
[923]
[924]
[925]
[926]
[927]
[928]
[929]
[930]
[931]
[932]
[933]
[934]
[935]
[936]
[937]
[938]
[939]
[940]
[941]
[942]
[943]
[944]
[945]
[946]
[947]
[948]
[949]
[950]
[951]
[952]
[953]
[954]
[955]
[956]
[957]
[958]
[959]
[960]
[961]
[962]
[963]
[964]
[965]
[966]
[967]
[968]
[969]
[970]
[971]
[972]
[973]
[974]
[975]
[976]
[977]
[978]
[979]
[980]
[981]
[982]
[983]
[984]
[985]
[986]
[987]
[988]
[989]
[990]
[991]
[992]
[993]
[994]
[995]
[996]
[997]
[998]
[999]
[1000]

{"sheet":"領収証シート1面","index":5,"n_rows":61,"n_cols":32,"rows_kept":61,"merged":[[1,31,1,34],[4,2,4,10],[4,15,7,20],[4,24,6,24],[4,25,6,26],[4,30,6,30],[4,31,6,34],[6,2,8,3],[6,4,8,10],[9,17,12,23],[9,24,12,24],[11,2,12,3],[11,4,12,10],[15,2,17,4],[15,5,17,10],[16,18,25,23],[20,2,21,4],[20,5,21,10],[24,2,26,4],[24,5,26,10],[29,2,31,5],[29,6,31,10],[29,16,31,16],[29,17,31,25],[34,2,35,4],[34,5,35,10],[34,17,35,25],[38,2,39,4],[38,5,39,10],[38,16,39,20],[38,21,39,25],[42,2,43,10],[42,15,43,16],[42,17,43,19],[43,21,46,24],[46,2,46,4],[46,15,48,16],[46,17,48,19],[47,21,51,24],[49,2,54,10],[51,15,52,17],[51,18,52,19],[52,21,56,24],[55,15,57,16],[55,17,57,19],[57,2,62,10],[57,21,61,24],[60,15,62,16],[60,17,62,19]]}
[]
[null,null,"領収証シート1面",{"$nulls":15},"↓　スクロールバー",{"$nulls":11},{"$f":"COUNTA(領収証印刷データ!B11:B1010)","v":0},"印刷データ　カウント"]
[]
[]
[null,null,"領収証（控）",{"$nulls":12},"領 収 証",{"$nulls":8},"№",{"$f":"IF($AE$5=0,\"\",IF(VLOOKUP($AE$5,領収証印刷データ!$A$11:$AF$1010,2,FALSE)=\"\",\"\",VLOOKUP($AE$5,領収証印刷データ!$A$11:$AF$1010,2,FALSE)))","v":""},{"$nulls":4},0,"行番号"]
[]
[null,null,"№",null,{"$f":"IF($AE$5=0,\"\",IF(VLOOKUP($AE$5,領収証印刷データ!$A$11:$AF$1010,2,FALSE)=\"\",\"\",VLOOKUP($AE$5,領収証印刷データ!$A$11:$AF$1010,2,FALSE)))","v":""}]
[]
[]
[{"$nulls":17},{"$f":"IF($AE$5=0,\"\",IF(VLOOKUP($AE$5,領収証印刷データ!$A$11:$AF$1010,4,FALSE)=\"\",\"\",VLOOKUP($AE$5,領収証印刷データ!$A$11:$AF$1010,4,FALSE)))","v":""},{"$nulls":6},"様"]
[]
[null,null,"氏名",null,{"$f":"IF($AE$5=0,\"\",IF(VLOOKUP($AE$5,領収証印刷データ!$A$11:$AF$1010,4,FALSE)=\"\",\"\",VLOOKUP($AE$5,領収証印刷データ!$A$11:$AF$1010,4,FALSE)))","v":""}]
[]
[]
[]
[null,null,"請求金額",null,null,{"$f":"IF($AE$5=0,\"\",IF(VLOOKUP($AE$5,領収証印刷データ!$A$11:$AF$1010,5,FALSE)=\"\",\"\",VLOOKUP($AE$5,領収証印刷データ!$A$11:$AF$1010,5,FALSE)))","v":""}]
[{"$nulls":18},{"$f":"IF($AE$5=0,\"\",IF(VLOOKUP($AE$5,領収証印刷データ!$A$11:$AF$1010,6,FALSE)=\"\",\"\",VLOOKUP($AE$5,領収証印刷データ!$A$11:$AF$1010,6,FALSE)))","v":""}]
[]
[]
[]
[null,null,"領収金額",null,null,{"$f":"IF($AE$5=0,\"\",IF(VLOOKUP($AE$5,領収証印刷データ!$A$11:$AF$1010,6,FALSE)=\"\",\"\",VLOOKUP($AE$5,領収証印刷データ!$A$11:$AF$1010,6,FALSE)))","v":""}]
[]
[]
[]
[null,null,{"$f":"IF($AE$5=0,\"\",IF(VLOOKUP($AE$5,領収証印刷データ!$A$11:$AF$1010,10,FALSE)=\"\",\"\",VLOOKUP($AE$5,領収証印刷データ!$A$11:$AF$1010,10,FALSE)))","v":""},null,null,{"$f":"IF($AE$5=0,\"\",IF(VLOOKUP($AE$5,領収証印刷データ!$A$11:$AF$1010,11,FALSE)=\"\",\"\",VLOOKUP($AE$5,領収証印刷データ!$A$11:$AF$1010,11,FALSE)))","v":""}]
[]
[]
[]
[]
[null,null,{"$f":"IF($AE$5=0,\"\",IF(VLOOKUP($AE$5,領収証印刷データ!$A$11:$AF$1010,12,FALSE)=\"\",\"\",VLOOKUP($AE$5,領収証印刷データ!$A$11:$AF$1010,12,FALSE)))","v":""},{"$nulls":3},{"$f":"IF($AE$5=0,\"\",IF(VLOOKUP($AE$5,領収証印刷データ!$A$11:$AF$1010,13,FALSE)=\"\",\"\",VLOOKUP($AE$5,領収証印刷データ!$A$11:$AF$1010,13,FALSE)))","v":""},{"$nulls":9},"但",{"$f":"IF($AE$5=0,\"\",IF(VLOOKUP($AE$5,領収証印刷データ!$A$11:$AF$1010,7,FALSE)=\"\",\"\",VLOOKUP($AE$5,領収証印刷データ!$A$11:$AF$1010,7,FALSE)))","v":""}]
[]
[]
[]
[]
[null,null,{"$f":"IF($AE$5=0,\"\",IF(VLOOKUP($AE$5,領収証印刷データ!$A$11:$AF$1010,14,FALSE)=\"\",\"\",VLOOKUP($AE$5,領収証印刷データ!$A$11:$AF$1010,14,FALSE)))","v":""},null,null,{"$f":"IF($AE$5=0,\"\",IF(VLOOKUP($AE$5,領収証印刷データ!$A$11:$AF$1010,15,FALSE)=\"\",\"\",VLOOKUP($AE$5,領収証印刷データ!$A$11:$AF$1010,15,FALSE)))","v":""},{"$nulls":11},{"$f":"IF($AE$5=0,\"\",IF(VLOOKUP($AE$5,領収証印刷データ!$A$11:$AF$1010,8,FALSE)=\"\",\"\",VLOOKUP($AE$5,領収証印刷データ!$A$11:$AF$1010,8,FALSE)))","v":""}]
[]
[]
[]
[null,null,{"$f":"IF($AE$5=0,\"\",IF(VLOOKUP($AE$5,領収証印刷データ!$A$11:$AF$1010,16,FALSE)=\"\",\"\",VLOOKUP($AE$5,領収証印刷データ!$A$11:$AF$1010,16,FALSE)))","v":""},null,null,{"$f":"IF($AE$5=0,\"\",IF(VLOOKUP($AE$5,領収証印刷データ!$A$11:$AF$1010,17,FALSE)=\"\",\"\",VLOOKUP($AE$5,領収証印刷データ!$A$11:$AF$1010,17,FALSE)))","v":""},{"$nulls":10},{"$f":"IF($AE$5=0,\"\",IF(VLOOKUP($AE$5,領収証印刷データ!$A$11:$AF$1010,9,FALSE)=\"\",\"\",VLOOKUP($AE$5,領収証印刷データ!$A$11:$AF$1010,9,FALSE)))","v":""},{"$nulls":4},"上記正に領収いたしました"]
[]
[]
[]
[null,null,{"$f":"IF($AE$5=0,\"\",IF(VLOOKUP($AE$5,領収証印刷データ!$A$11:$AF$1010,9,FALSE)=\"\",\"\",VLOOKUP($AE$5,領収証印刷データ!$A$11:$AF$1010,9,FALSE)))","v":""},{"$nulls":12},{"$f":"IF($AE$5=0,\"\",IF(VLOOKUP($AE$5,領収証印刷データ!$A$11:$AF$1010,23,FALSE)=\"\",\"\",VLOOKUP($AE$5,領収証印刷データ!$A$11:$AF$1010,23,FALSE)))","v":""},null,{"$f":"IF($AE$5=0,\"\",IF(VLOOKUP($AE$5,領収証印刷データ!$A$11:$AF$1010,24,FALSE)=\"\",\"\",VLOOKUP($AE$5,領収証印刷データ!$A$11:$AF$1010,24,FALSE)))","v":""}]
[{"$nulls":21},{"$f":"IF(領収証印刷シート1面!V44=\"\",\"\",領収証印刷シート1面!V44)","v":"高 金 印 刷 株 式 会 社　　"}]
[]
[]
[null,null,"摘要",{"$nulls":12},{"$f":"IF($AE$5=0,\"\",IF(VLOOKUP($AE$5,領収証印刷データ!$A$11:$AF$1010,25,FALSE)=\"\",\"\",VLOOKUP($AE$5,領収証印刷データ!$A$11:$AF$1010,25,FALSE)))","v":""},null,{"$f":"IF($AE$5=0,\"\",IF(VLOOKUP($AE$5,領収証印刷データ!$A$11:$AF$1010,26,FALSE)=\"\",\"\",VLOOKUP($AE$5,領収証印刷データ!$A$11:$AF$1010,26,FALSE)))","v":""}]
[{"$nulls":21},{"$f":"IF(領収証印刷シート1面!V48=\"\",\"\",領収証印刷シート1面!V48)","v":"　　〒 038-0015"}]
[]
[null,null,{"$f":"IF($AE$5=0,\"\",IF(VLOOKUP($AE$5,領収証印刷データ!$A$11:$AF$1010,7,FALSE)=\"\",\"\",VLOOKUP($AE$5,領収証印刷データ!$A$11:$AF$1010,7,FALSE)))","v":""}]
[]
[{"$nulls":15},{"$f":"IF($AE$5=0,\"\",IF(VLOOKUP($AE$5,領収証印刷データ!$A$11:$AF$1010,27,FALSE)=\"\",\"\",VLOOKUP($AE$5,領収証印刷データ!$A$11:$AF$1010,27,FALSE)))","v":""},null,null,{"$f":"IF($AE$5=0,\"\",IF(VLOOKUP($AE$5,領収証印刷データ!$A$11:$AF$1010,28,FALSE)=\"\",\"\",VLOOKUP($AE$5,領収証印刷データ!$A$11:$AF$1010,28,FALSE)))","v":""}]
[{"$nulls":21},{"$f":"IF(領収証印刷シート1面!V53=\"\",\"\",領収証印刷シート1面!V53)","v":"　　　　青森市千刈二丁目１番３１号"}]
[]
[]
[{"$nulls":15},{"$f":"IF($AE$5=0,\"\",IF(VLOOKUP($AE$5,領収証印刷データ!$A$11:$AF$1010,29,FALSE)=\"\",\"\",VLOOKUP($AE$5,領収証印刷データ!$A$11:$AF$1010,29,FALSE)))","v":""},null,{"$f":"IF($AE$5=0,\"\",IF(VLOOKUP($AE$5,領収証印刷データ!$A$11:$AF$1010,30,FALSE)=\"\",\"\",VLOOKUP($AE$5,領収証印刷データ!$A$11:$AF$1010,30,FALSE)))","v":""}]
[]
[null,null,{"$f":"IF($AE$5=0,\"\",IF(VLOOKUP($AE$5,領収証印刷データ!$A$11:$AF$1010,8,FALSE)=\"\",\"\",VLOOKUP($AE$5,領収証印刷データ!$A$11:$AF$1010,8,FALSE)))","v":""},{"$nulls":18},{"$f":"IF(領収証印刷シート1面!V58=\"\",\"\",領収証印刷シート1面!V58)","v":"　　　　　 電話　017-781-2244"}]
[]
[]
[{"$nulls":15},{"$f":"IF($AE$5=0,\"\",IF(VLOOKUP($AE$5,領収証印刷データ!$A$11:$AF$1010,31,FALSE)=\"\",\"\",VLOOKUP($AE$5,領収証印刷データ!$A$11:$AF$1010,31,FALSE)))","v":""},null,{"$f":"IF($AE$5=0,\"\",IF(VLOOKUP($AE$5,領収証印刷データ!$A$11:$AF$1010,32,FALSE)=\"\",\"\",VLOOKUP($AE$5,領収証印刷データ!$A$11:$AF$1010,32,FALSE)))","v":""}]

{"sheet":"領収証印刷シート1面","index":6,"n_rows":100,"n_cols":36,"rows_kept":100,"merged":[[3,15,7,20],[4,2,4,10],[4,24,6,24],[4,25,6,26],[6,2,8,3],[6,4,8,10],[9,17,12,23],[9,24,12,24],[11,2,12,3],[11,4,12,10],[15,2,17,4],[15,5,17,10],[16,18,25,23],[20,2,21,4],[20,5,21,10],[24,2,26,4],[24,5,26,10],[29,2,31,5],[29,6,31,10],[29,16,31,16],[29,17,31,25],[34,2,35,4],[34,5,35,10],[34,17,35,25],[38,2,39,4],[38,5,39,10],[38,16,39,20],[38,21,39,25],[42,2,43,10],[42,15,43,16],[42,17,43,19],[43,21,46,24],[46,2,46,4],[46,15,48,16],[46,17,48,19],[47,21,51,24],[49,2,54,10],[51,15,52,17],[51,18,52,19],[52,21,56,24],[55,15,57,16],[55,17,57,19],[57,2,62,10],[57,21,61,24],[60,15,62,16],[60,17,62,19],[70,0,70,14],[71,16,73,19],[71,34,71,35],[72,1,72,14],[73,0,88,0],[73,1,73,14],[74,1,74,14],[75,1,77,14],[75,16,77,19],[78,1,80,14],[79,16,81,19],[81,1,82,14],[83,1,84,14],[83,16,85,19],[85,1,86,14],[87,1,87,14],[87,16,89,19],[88,1,88,14],[89,1,89,14],[90,0,100,0],[90,1,91,14],[92,1,92,14],[93,1,94,14],[95,1,95,14],[96,1,96,14],[97,1,97,14],[98,1,98,14],[99,1,100,14]]}
[]
[null,null,"領収証印刷シート1面"]
[]
[{"$nulls":15},"領 収 証　"]
[null,null,"領収証（控）",{"$nulls":21},"№",{"$f":"IF(領収証シート1面!Z5=\"\",\"\",領収証シート1面!Z5)","v":""}]
[]
[null,null,"№",null,{"$f":"IF(領収証シート1面!E7=\"\",\"\",領収証シート1面!E7)","v":""}]
[]
[]
[{"$nulls":17},{"$f":"IF(領収証シート1面!R10=\"宛先名を空白で印刷する\",\"\",IF(領収証シート1面!R10=\"\",\"\",領収証シート1面!R10))","v":""},{"$nulls":6},"様"]
[]
[null,null,"氏名",null,{"$f":"IF(領収証シート1面!E12=\"宛先名を空白で印刷する\",\"\",IF(領収証シート1面!E12=\"\",\"\",領収証シート1面!E12))","v":""}]
[]
[]
[]
[null,null,"請求金額",null,null,{"$f":"IF(領収証シート1面!F16=\"\",\"\",領収証シート1面!F16)","v":""}]
[{"$nulls":18},{"$f":"IF(領収証シート1面!S17=\"\",\"\",領収証シート1面!S17)","v":""}]
[]
[]
[]
[null,null,"領収金額",null,null,{"$f":"IF(領収証シート1面!F21=\"\",\"\",領収証シート1面!F21)","v":""}]
[]
[]
[]
[null,null,{"$f":"IF(領収証シート1面!C25=\"\",\"\",領収証シート1面!C25)","v":""},null,null,{"$f":"IF(領収証シート1面!F25=\"\",\"\",領収証シート1面!F25)","v":""}]
[]
[]
[]
[]
[null,null,{"$f":"IF(領収証シート1面!C30=\"\",\"\",領収証シート1面!C30)","v":""},{"$nulls":3},{"$f":"IF(領収証シート1面!G30=\"\",\"\",領収証シート1面!G30)","v":""},{"$nulls":9},"但",{"$f":"IF(領収証シート1面!R30=\"\",\"\",領収証シート1面!R30)","v":""}]
[]
[]
[]
[]
[null,null,{"$f":"IF(領収証シート1面!C35=\"\",\"\",領収証シート1面!C35)","v":""},null,null,{"$f":"IF(領収証シート1面!F35=\"\",\"\",領収証シート1面!F35)","v":""},{"$nulls":11},{"$f":"IF(領収証シート1面!R35=\"\",\"\",領収証シート1面!R35)","v":""}]
[]
[]
[]
[null,null,{"$f":"IF(領収証シート1面!C39=\"\",\"\",領収証シート1面!C39)","v":""},null,null,{"$f":"IF(領収証シート1面!F39=\"\",\"\",領収証シート1面!F39)","v":""},{"$nulls":10},{"$f":"IF(領収証シート1面!Q39=\"\",\"\",領収証シート1面!Q39)","v":""},{"$nulls":4},"上記正に領収いたしました"]
[]
[]
[]
[null,null,{"$f":"IF(領収証シート1面!C43=\"\",\"\",領収証シート1面!C43)","v":""},{"$nulls":12},{"$f":"IF(領収証シート1面!P43=\"\",\"\",領収証シート1面!P43)","v":""},null,{"$f":"IF(領収証シート1面!R43=\"\",\"\",領収証シート1面!R43)","v":""}]
[{"$nulls":21},{"$f":"IF(AJ74=\"\",\"\",AJ74)","v":"高 金 印 刷 株 式 会 社　　"}]
[]
[]
[null,null,"摘要",{"$nulls":12},{"$f":"IF(領収証シート1面!P47=\"\",\"\",領収証シート1面!P47)","v":""},null,{"$f":"IF(領収証シート1面!R47=\"\",\"\",領収証シート1面!R47)","v":""}]
[{"$nulls":21},{"$f":"IF(AJ75=\"\",\"\",AJ75)","v":"　　〒 038-0015"}]
[]
[null,null,{"$f":"IF(領収証シート1面!C50=\"\",\"\",領収証シート1面!C50)","v":""}]
[]
[{"$nulls":15},{"$f":"IF(領収証シート1面!P52=\"\",\"\",領収証シート1面!P52)","v":""},null,null,{"$f":"IF(領収証シート1面!S52=\"\",\"\",領収証シート1面!S52)","v":""}]
[{"$nulls":21},{"$f":"IF(AJ76=\"\",\"\",AJ76)","v":"　　　　青森市千刈二丁目１番３１号"}]
[]
[]
[{"$nulls":15},{"$f":"IF(領収証シート1面!P56=\"\",\"\",領収証シート1面!P56)","v":""},null,{"$f":"IF(領収証シート1面!R56=\"\",\"\",領収証シート1面!R56)","v":""}]
[]
[null,null,{"$f":"IF(領収証シート1面!C58=\"\",\"\",領収証シート1面!C58)","v":""},{"$nulls":18},{"$f":"IF(AJ77=\"\",\"\",AJ77)","v":"　　　　　 電話　017-781-2244"}]
[]
[]
[{"$nulls":15},{"$f":"IF(領収証シート1面!P61=\"\",\"\",領収証シート1面!P61)","v":""},null,{"$f":"IF(領収証シート1面!R61=\"\",\"\",領収証シート1面!R61)","v":""}]
{"$rows_empty":9}
["領収証印刷シートでの設定方法"]
[{"$nulls":16},"テキストボックス　Ａ",{"$nulls":17},"手　順　１"]
["手順１","内容",{"$nulls":33},"会 社 名 入 力 欄"]
["会社名入力設定","会社名入力欄のセルに入力します",{"$nulls":32},"１段目","高 金 印 刷 株 式 会 社　　"]
[null,"（領収証3面シートにも反映されます）",{"$nulls":32},"２段目","　　〒 038-0015"]
[null,"※　会社名データ表示方法は、セルまたは、テキストボックス表示どちらも自由に設定変更できます",{"$nulls":14},"テキストボックス　Ｂ",{"$nulls":17},"３段目","　　　　青森市千刈二丁目１番３１号"]
[{"$nulls":34},"４段目","　　　　　 電話　017-781-2244"]
[]
[null,"テキストボックスで設定する場合は、各シートにある『シート保護の解除』ボタンをクリックしてから、領収証印刷シート1面・3面を設定し、領収証シート1面・3面と領収証入力シートは個別に手動で設定変更してください。"]
[{"$nulls":16},"テキストボックス　Ｃ"]
[]
[null,"【設定の変更は『セルの書式設定(F)』で設定変更できます】"]
[]
[null,"※　ロゴ、マークなどイメージ画像を貼り付けることもできます（挿入→図をファイルから挿入）",{"$nulls":14},"テキストボックス　Ｄ"]
[]
[null,"※　電子印鑑を使用する場合は、会社名等はテキストボックス表示になります"]
[]
[null,"（テキストボックスを画面中央下側に設定しています）",{"$nulls":14},"テキストボックス　Ｅ"]
[]
["手順2","内容"]
["印刷設定","領収証Ａ4（3面）用紙に印刷し端数が出た場合切り離して領収証1面で印刷します"]
[]
[null,"プリンタの設定"]
[null,"領収証印刷シート1面と領収証印刷シート3面の各印刷シートでプリンタのプロパティーで設定します"]
[]
[null,"領収証印刷シート1面はユーザー定義です"]
[null,"用紙寸法 ： 縦又は、長さ 99 × 横又は、幅 210mm"]
[null,"領収証印刷シート3面はＡ4です"]
[null,"用紙寸法 ： Ａ4"]
[null,"余白で印刷位置を合わせます。（1ミリ未満の調整はセル幅または高さを狭くしたり広くしたりしてください）"]

{"sheet":"領収証シート3面","index":7,"n_rows":183,"n_cols":32,"rows_kept":183,"merged":[[1,31,1,34],[4,2,4,10],[4,15,7,20],[4,24,6,24],[4,25,6,26],[4,30,6,30],[4,31,6,34],[6,2,8,3],[6,4,8,10],[9,17,12,23],[9,24,12,24],[11,2,12,3],[11,4,12,10],[15,2,17,4],[15,5,17,10],[16,18,25,23],[20,2,21,4],[20,5,21,10],[24,2,26,4],[24,5,26,10],[29,2,31,5],[29,6,31,10],[29,16,31,16],[29,17,31,25],[34,2,35,4],[34,5,35,10],[34,17,35,25],[38,2,39,4],[38,5,39,10],[38,16,39,20],[38,21,39,25],[42,2,43,10],[42,15,43,16],[42,17,43,19],[43,21,46,24],[46,2,46,4],[46,15,48,16],[46,17,48,19],[47,21,51,24],[49,2,54,10],[51,15,52,17],[51,18,52,19],[52,21,56,24],[55,15,57,16],[55,17,57,19],[57,2,62,10],[57,21,61,24],[60,15,62,16],[60,17,62,19],[65,2,65,10],[65,15,68,20],[65,24,67,24],[65,25,67,26],[65,30,67,30],[67,2,69,3],[67,4,69,10],[70,17,73,23],[70,24,73,24],[72,2,73,3],[72,4,73,10],[76,2,78,4],[76,5,78,10],[77,18,86,23],[81,2,82,4],[81,5,82,10],[85,2,87,4],[85,5,87,10],[90,2,92,5],[90,6,92,10],[90,16,92,16],[90,17,92,25],[95,2,96,4],[95,5,96,10],[95,17,96,25],[99,2,100,4],[99,5,100,10],[99,16,100,20],[99,21,100,25],[103,2,104,10],[103,15,104,16],[103,17,104,19],[104,21,107,24],[107,2,107,4],[107,15,109,16],[107,17,109,19],[108,21,112,24],[110,2,115,10],[112,15,113,17],[112,18,113,19],[113,21,117,24],[116,15,118,16],[116,17,118,19],[118,2,123,10],[118,21,122,24],[121,15,123,16],[121,17,123,19],[126,2,126,10],[126,15,129,20],[126,24,128,24],[126,25,128,26],[126,30,128,30],[128,2,130,3],[128,4,130,10],[131,17,134,23],[131,24,134,24],[133,2,134,3],[133,4,134,10],[137,2,139,4],[137,5,139,10],[138,18,147,23],[142,2,143,4],[142,5,143,10],[146,2,148,4],[146,5,148,10],[151,2,153,5],[151,6,153,10],[151,16,153,16],[151,17,153,25],[156,2,157,4],[156,5,157,10],[156,17,157,25],[160,2,161,4],[160,5,161,10],[160,16,161,20],[160,21,161,25],[164,2,165,10],[164,15,165,16],[164,17,165,19],[165,21,168,24],[168,2,168,4],[168,15,170,16],[168,17,170,19],[169,21,173,24],[171,2,176,10],[173,15,174,17],[173,18,174,19],[174,21,178,24],[177,15,179,16],[177,17,179,19],[179,2,184,10],[179,21,183,24],[182,15,184,16],[182,17,184,19]]}
[]
[null,null,"領収証シート3面",{"$nulls":15},"↓　スクロールバー",{"$nulls":11},{"$f":"COUNTA(領収証印刷データ!B11:B1010)","v":0},"印刷データ　カウント"]
[]
[]
[null,null,"領収証（控）",{"$nulls":12},"領 収 証",{"$nulls":8},"№",{"$f":"IF($AE$5=0,\"\",IF(VLOOKUP($AE$5,領収証印刷データ!$A$11:$AF$1010,2,FALSE)=\"\",\"\",VLOOKUP($AE$5,領収証印刷データ!$A$11:$AF$1010,2,FALSE)))","v":""},{"$nulls":4},4,"行番号"]
[]
[null,null,"№",null,{"$f":"IF($AE$5=0,\"\",IF(VLOOKUP($AE$5,領収証印刷データ!$A$11:$AF$1010,2,FALSE)=\"\",\"\",VLOOKUP($AE$5,領収証印刷データ!$A$11:$AF$1010,2,FALSE)))","v":""}]
[]
[]
[{"$nulls":17},{"$f":"IF($AE$5=0,\"\",IF(VLOOKUP($AE$5,領収証印刷データ!$A$11:$AF$1010,4,FALSE)=\"\",\"\",VLOOKUP($AE$5,領収証印刷データ!$A$11:$AF$1010,4,FALSE)))","v":""},{"$nulls":6},"様"]
[]
[null,null,"氏名",null,{"$f":"IF($AE$5=0,\"\",IF(VLOOKUP($AE$5,領収証印刷データ!$A$11:$AF$1010,4,FALSE)=\"\",\"\",VLOOKUP($AE$5,領収証印刷データ!$A$11:$AF$1010,4,FALSE)))","v":""}]
[]
[]
[]
[null,null,"請求金額",null,null,{"$f":"IF($AE$5=0,\"\",IF(VLOOKUP($AE$5,領収証印刷データ!$A$11:$AF$1010,5,FALSE)=\"\",\"\",VLOOKUP($AE$5,領収証印刷データ!$A$11:$AF$1010,5,FALSE)))","v":""}]
[{"$nulls":18},{"$f":"IF($AE$5=0,\"\",IF(VLOOKUP($AE$5,領収証印刷データ!$A$11:$AF$1010,6,FALSE)=\"\",\"\",VLOOKUP($AE$5,領収証印刷データ!$A$11:$AF$1010,6,FALSE)))","v":""}]
[]
[]
[]
[null,null,"領収金額",null,null,{"$f":"IF($AE$5=0,\"\",IF(VLOOKUP($AE$5,領収証印刷データ!$A$11:$AF$1010,6,FALSE)=\"\",\"\",VLOOKUP($AE$5,領収証印刷データ!$A$11:$AF$1010,6,FALSE)))","v":""}]
[]
[]
[]
[null,null,{"$f":"IF($AE$5=0,\"\",IF(VLOOKUP($AE$5,領収証印刷データ!$A$11:$AF$1010,10,FALSE)=\"\",\"\",VLOOKUP($AE$5,領収証印刷データ!$A$11:$AF$1010,10,FALSE)))","v":""},null,null,{"$f":"IF($AE$5=0,\"\",IF(VLOOKUP($AE$5,領収証印刷データ!$A$11:$AF$1010,11,FALSE)=\"\",\"\",VLOOKUP($AE$5,領収証印刷データ!$A$11:$AF$1010,11,FALSE)))","v":""}]
[]
[]
[]
[]
[null,null,{"$f":"IF($AE$5=0,\"\",IF(VLOOKUP($AE$5,領収証印刷データ!$A$11:$AF$1010,12,FALSE)=\"\",\"\",VLOOKUP($AE$5,領収証印刷データ!$A$11:$AF$1010,12,FALSE)))","v":""},{"$nulls":3},{"$f":"IF($AE$5=0,\"\",IF(VLOOKUP($AE$5,領収証印刷データ!$A$11:$AF$1010,13,FALSE)=\"\",\"\",VLOOKUP($AE$5,領収証印刷データ!$A$11:$AF$1010,13,FALSE)))","v":""},{"$nulls":9},"但",{"$f":"IF($AE$5=0,\"\",IF(VLOOKUP($AE$5,領収証印刷データ!$A$11:$AF$1010,7,FALSE)=\"\",\"\",VLOOKUP($AE$5,領収証印刷データ!$A$11:$AF$1010,7,FALSE)))","v":""}]
[]
[]
[]
[]
[null,null,{"$f":"IF($AE$5=0,\"\",IF(VLOOKUP($AE$5,領収証印刷データ!$A$11:$AF$1010,14,FALSE)=\"\",\"\",VLOOKUP($AE$5,領収証印刷データ!$A$11:$AF$1010,14,FALSE)))","v":""},null,null,{"$f":"IF($AE$5=0,\"\",IF(VLOOKUP($AE$5,領収証印刷データ!$A$11:$AF$1010,15,FALSE)=\"\",\"\",VLOOKUP($AE$5,領収証印刷データ!$A$11:$AF$1010,15,FALSE)))","v":""},{"$nulls":11},{"$f":"IF($AE$5=0,\"\",IF(VLOOKUP($AE$5,領収証印刷データ!$A$11:$AF$1010,8,FALSE)=\"\",\"\",VLOOKUP($AE$5,領収証印刷データ!$A$11:$AF$1010,8,FALSE)))","v":""}]
[]
[]
[]
[null,null,{"$f":"IF($AE$5=0,\"\",IF(VLOOKUP($AE$5,領収証印刷データ!$A$11:$AF$1010,16,FALSE)=\"\",\"\",VLOOKUP($AE$5,領収証印刷データ!$A$11:$AF$1010,16,FALSE)))","v":""},null,null,{"$f":"IF($AE$5=0,\"\",IF(VLOOKUP($AE$5,領収証印刷データ!$A$11:$AF$1010,17,FALSE)=\"\",\"\",VLOOKUP($AE$5,領収証印刷データ!$A$11:$AF$1010,17,FALSE)))","v":""},{"$nulls":10},{"$f":"IF($AE$5=0,\"\",IF(VLOOKUP($AE$5,領収証印刷データ!$A$11:$AF$1010,9,FALSE)=\"\",\"\",VLOOKUP($AE$5,領収証印刷データ!$A$11:$AF$1010,9,FALSE)))","v":""},{"$nulls":4},"上記正に領収いたしました"]
[]
[]
[]
[null,null,{"$f":"IF($AE$5=0,\"\",IF(VLOOKUP($AE$5,領収証印刷データ!$A$11:$AF$1010,9,FALSE)=\"\",\"\",VLOOKUP($AE$5,領収証印刷データ!$A$11:$AF$1010,9,FALSE)))","v":""},{"$nulls":12},{"$f":"IF($AE$5=0,\"\",IF(VLOOKUP($AE$5,領収証印刷データ!$A$11:$AF$1010,23,FALSE)=\"\",\"\",VLOOKUP($AE$5,領収証印刷データ!$A$11:$AF$1010,23,FALSE)))","v":""},null,{"$f":"IF($AE$5=0,\"\",IF(VLOOKUP($AE$5,領収証印刷データ!$A$11:$AF$1010,24,FALSE)=\"\",\"\",VLOOKUP($AE$5,領収証印刷データ!$A$11:$AF$1010,24,FALSE)))","v":""}]
[{"$nulls":21},{"$f":"IF(領収証印刷シート1面!V44=\"\",\"\",領収証印刷シート1面!V44)","v":"高 金 印 刷 株 式 会 社　　"}]
[]
[]
[null,null,"摘要",{"$nulls":12},{"$f":"IF($AE$5=0,\"\",IF(VLOOKUP($AE$5,領収証印刷データ!$A$11:$AF$1010,25,FALSE)=\"\",\"\",VLOOKUP($AE$5,領収証印刷データ!$A$11:$AF$1010,25,FALSE)))","v":""},null,{"$f":"IF($AE$5=0,\"\",IF(VLOOKUP($AE$5,領収証印刷データ!$A$11:$AF$1010,26,FALSE)=\"\",\"\",VLOOKUP($AE$5,領収証印刷データ!$A$11:$AF$1010,26,FALSE)))","v":""}]
[{"$nulls":21},{"$f":"IF(領収証印刷シート1面!V48=\"\",\"\",領収証印刷シート1面!V48)","v":"　　〒 038-0015"}]
[]
[null,null,{"$f":"IF($AE$5=0,\"\",IF(VLOOKUP($AE$5,領収証印刷データ!$A$11:$AF$1010,7,FALSE)=\"\",\"\",VLOOKUP($AE$5,領収証印刷データ!$A$11:$AF$1010,7,FALSE)))","v":""}]
[]
[{"$nulls":15},{"$f":"IF($AE$5=0,\"\",IF(VLOOKUP($AE$5,領収証印刷データ!$A$11:$AF$1010,27,FALSE)=\"\",\"\",VLOOKUP($AE$5,領収証印刷データ!$A$11:$AF$1010,27,FALSE)))","v":""},null,null,{"$f":"IF($AE$5=0,\"\",IF(VLOOKUP($AE$5,領収証印刷データ!$A$11:$AF$1010,28,FALSE)=\"\",\"\",VLOOKUP($AE$5,領収証印刷データ!$A$11:$AF$1010,28,FALSE)))","v":""}]
[{"$nulls":21},{"$f":"IF(領収証印刷シート1面!V53=\"\",\"\",領収証印刷シート1面!V53)","v":"　　　　青森市千刈二丁目１番３１号"}]
[]
[]
[{"$nulls":15},{"$f":"IF($AE$5=0,\"\",IF(VLOOKUP($AE$5,領収証印刷データ!$A$11:$AF$1010,29,FALSE)=\"\",\"\",VLOOKUP($AE$5,領収証印刷データ!$A$11:$AF$1010,29,FALSE)))","v":""},null,{"$f":"IF($AE$5=0,\"\",IF(VLOOKUP($AE$5,領収証印刷データ!$A$11:$AF$1010,30,FALSE)=\"\",\"\",VLOOKUP($AE$5,領収証印刷データ!$A$11:$AF$1010,30,FALSE)))","v":""}]
[]
[null,null,{"$f":"IF($AE$5=0,\"\",IF(VLOOKUP($AE$5,領収証印刷データ!$A$11:$AF$1010,8,FALSE)=\"\",\"\",VLOOKUP($AE$5,領収証印刷データ!$A$11:$AF$1010,8,FALSE)))","v":""},{"$nulls":18},{"$f":"IF(領収証印刷シート1面!V58=\"\",\"\",領収証印刷シート1面!V58)","v":"　　　　　 電話　017-781-2244"}]
[]
[]
[{"$nulls":15},{"$f":"IF($AE$5=0,\"\",IF(VLOOKUP($AE$5,領収証印刷データ!$A$11:$AF$1010,31,FALSE)=\"\",\"\",VLOOKUP($AE$5,領収証印刷データ!$A$11:$AF$1010,31,FALSE)))","v":""},null,{"$f":"IF($AE$5=0,\"\",IF(VLOOKUP($AE$5,領収証印刷データ!$A$11:$AF$1010,32,FALSE)=\"\",\"\",VLOOKUP($AE$5,領収証印刷データ!$A$11:$AF$1010,32,FALSE)))","v":""}]
[]
[]
[]
[]
[null,null,"領収証（控）",{"$nulls":12},"領 収 証",{"$nulls":8},"№",{"$f":"IF($AE$66=0,\"\",IF(VLOOKUP($AE$66,領収証印刷データ!$A$11:$AF$1010,2,FALSE)=\"\",\"\",VLOOKUP($AE$66,領収証印刷データ!$A$11:$AF$1010,2,FALSE)))","v":""},{"$nulls":4},{"$f":"AE5+1","v":5}]
[]
[null,null,"№",null,{"$f":"IF($AE$66=0,\"\",IF(VLOOKUP($AE$66,領収証印刷データ!$A$11:$AF$1010,2,FALSE)=\"\",\"\",VLOOKUP($AE$66,領収証印刷データ!$A$11:$AF$1010,2,FALSE)))","v":""}]
[]
[]
[{"$nulls":17},{"$f":"IF($AE$66=0,\"\",IF(VLOOKUP($AE$66,領収証印刷データ!$A$11:$AF$1010,4,FALSE)=\"\",\"\",VLOOKUP($AE$66,領収証印刷データ!$A$11:$AF$1010,4,FALSE)))","v":""},{"$nulls":6},"様"]
[]
[null,null,"氏名",null,{"$f":"IF($AE$66=0,\"\",IF(VLOOKUP($AE$66,領収証印刷データ!$A$11:$AF$1010,4,FALSE)=\"\",\"\",VLOOKUP($AE$66,領収証印刷データ!$A$11:$AF$1010,4,FALSE)))","v":""}]
[]
[]
[]
[null,null,"請求金額",null,null,{"$f":"IF($AE$66=0,\"\",IF(VLOOKUP($AE$66,領収証印刷データ!$A$11:$AF$1010,5,FALSE)=\"\",\"\",VLOOKUP($AE$66,領収証印刷データ!$A$11:$AF$1010,5,FALSE)))","v":""}]
[{"$nulls":18},{"$f":"IF($AE$66=0,\"\",IF(VLOOKUP($AE$66,領収証印刷データ!$A$11:$AF$1010,6,FALSE)=\"\",\"\",VLOOKUP($AE$66,領収証印刷データ!$A$11:$AF$1010,6,FALSE)))","v":""}]
[]
[]
[]
[null,null,"領収金額",null,null,{"$f":"IF($AE$66=0,\"\",IF(VLOOKUP($AE$66,領収証印刷データ!$A$11:$AF$1010,6,FALSE)=\"\",\"\",VLOOKUP($AE$66,領収証印刷データ!$A$11:$AF$1010,6,FALSE)))","v":""}]
[]
[]
[]
[null,null,{"$f":"IF($AE$66=0,\"\",IF(VLOOKUP($AE$66,領収証印刷データ!$A$11:$AF$1010,10,FALSE)=\"\",\"\",VLOOKUP($AE$66,領収証印刷データ!$A$11:$AF$1010,10,FALSE)))","v":""},null,null,{"$f":"IF($AE$66=0,\"\",IF(VLOOKUP($AE$66,領収証印刷データ!$A$11:$AF$1010,11,FALSE)=\"\",\"\",VLOOKUP($AE$66,領収証印刷データ!$A$11:$AF$1010,11,FALSE)))","v":""}]
[]
[]
[]
[]
[null,null,{"$f":"IF($AE$66=0,\"\",IF(VLOOKUP($AE$66,領収証印刷データ!$A$11:$AF$1010,12,FALSE)=\"\",\"\",VLOOKUP($AE$66,領収証印刷データ!$A$11:$AF$1010,12,FALSE)))","v":""},{"$nulls":3},{"$f":"IF($AE$66=0,\"\",IF(VLOOKUP($AE$66,領収証印刷データ!$A$11:$AF$1010,13,FALSE)=\"\",\"\",VLOOKUP($AE$66,領収証印刷データ!$A$11:$AF$1010,13,FALSE)))","v":""},{"$nulls":9},"但",{"$f":"IF($AE$66=0,\"\",IF(VLOOKUP($AE$66,領収証印刷データ!$A$11:$AF$1010,7,FALSE)=\"\",\"\",VLOOKUP($AE$66,領収証印刷データ!$A$11:$AF$1010,7,FALSE)))","v":""}]
[]
[]
[]
[]
[null,null,{"$f":"IF($AE$66=0,\"\",IF(VLOOKUP($AE$66,領収証印刷データ!$A$11:$AF$1010,14,FALSE)=\"\",\"\",VLOOKUP($AE$66,領収証印刷データ!$A$11:$AF$1010,14,FALSE)))","v":""},null,null,{"$f":"IF($AE$66=0,\"\",IF(VLOOKUP($AE$66,領収証印刷データ!$A$11:$AF$1010,15,FALSE)=\"\",\"\",VLOOKUP($AE$66,領収証印刷データ!$A$11:$AF$1010,15,FALSE)))","v":""},{"$nulls":11},{"$f":"IF($AE$66=0,\"\",IF(VLOOKUP($AE$66,領収証印刷データ!$A$11:$AF$1010,8,FALSE)=\"\",\"\",VLOOKUP($AE$66,領収証印刷データ!$A$11:$AF$1010,8,FALSE)))","v":""}]
[]
[]
[]
[null,null,{"$f":"IF($AE$66=0,\"\",IF(VLOOKUP($AE$66,領収証印刷データ!$A$11:$AF$1010,16,FALSE)=\"\",\"\",VLOOKUP($AE$66,領収証印刷データ!$A$11:$AF$1010,16,FALSE)))","v":""},null,null,{"$f":"IF($AE$66=0,\"\",IF(VLOOKUP($AE$66,領収証印刷データ!$A$11:$AF$1010,17,FALSE)=\"\",\"\",VLOOKUP($AE$66,領収証印刷データ!$A$11:$AF$1010,17,FALSE)))","v":""},{"$nulls":10},{"$f":"IF($AE$66=0,\"\",IF(VLOOKUP($AE$66,領収証印刷データ!$A$11:$AF$1010,9,FALSE)=\"\",\"\",VLOOKUP($AE$66,領収証印刷データ!$A$11:$AF$1010,9,FALSE)))","v":""},{"$nulls":4},"上記正に領収いたしました"]
[]
[]
[]
[null,null,{"$f":"IF($AE$66=0,\"\",IF(VLOOKUP($AE$66,領収証印刷データ!$A$11:$AF$1010,9,FALSE)=\"\",\"\",VLOOKUP($AE$66,領収証印刷データ!$A$11:$AF$1010,9,FALSE)))","v":""},{"$nulls":12},{"$f":"IF($AE$66=0,\"\",IF(VLOOKUP($AE$66,領収証印刷データ!$A$11:$AF$1010,23,FALSE)=\"\",\"\",VLOOKUP($AE$66,領収証印刷データ!$A$11:$AF$1010,23,FALSE)))","v":""},null,{"$f":"IF($AE$66=0,\"\",IF(VLOOKUP($AE$66,領収証印刷データ!$A$11:$AF$1010,24,FALSE)=\"\",\"\",VLOOKUP($AE$66,領収証印刷データ!$A$11:$AF$1010,24,FALSE)))","v":""}]
[{"$nulls":21},{"$f":"IF(領収証印刷シート1面!V44=\"\",\"\",領収証印刷シート1面!V44)","v":"高 金 印 刷 株 式 会 社　　"}]
[]
[]
[null,null,"摘要",{"$nulls":12},{"$f":"IF($AE$66=0,\"\",IF(VLOOKUP($AE$66,領収証印刷データ!$A$11:$AF$1010,25,FALSE)=\"\",\"\",VLOOKUP($AE$66,領収証印刷データ!$A$11:$AF$1010,25,FALSE)))","v":""},null,{"$f":"IF($AE$66=0,\"\",IF(VLOOKUP($AE$66,領収証印刷データ!$A$11:$AF$1010,26,FALSE)=\"\",\"\",VLOOKUP($AE$66,領収証印刷データ!$A$11:$AF$1010,26,FALSE)))","v":""}]
[{"$nulls":21},{"$f":"IF(領収証印刷シート1面!V48=\"\",\"\",領収証印刷シート1面!V48)","v":"　　〒 038-0015"}]
[]
[null,null,{"$f":"IF($AE$66=0,\"\",IF(VLOOKUP($AE$66,領収証印刷データ!$A$11:$AF$1010,7,FALSE)=\"\",\"\",VLOOKUP($AE$66,領収証印刷データ!$A$11:$AF$1010,7,FALSE)))","v":""}]
[]
[{"$nulls":15},{"$f":"IF($AE$66=0,\"\",IF(VLOOKUP($AE$66,領収証印刷データ!$A$11:$AF$1010,27,FALSE)=\"\",\"\",VLOOKUP($AE$66,領収証印刷データ!$A$11:$AF$1010,27,FALSE)))","v":""},null,null,{"$f":"IF($AE$66=0,\"\",IF(VLOOKUP($AE$66,領収証印刷データ!$A$11:$AF$1010,28,FALSE)=\"\",\"\",VLOOKUP($AE$66,領収証印刷データ!$A$11:$AF$1010,28,FALSE)))","v":""}]
[{"$nulls":21},{"$f":"IF(領収証印刷シート1面!V53=\"\",\"\",領収証印刷シート1面!V53)","v":"　　　　青森市千刈二丁目１番３１号"}]
[]
[]
[{"$nulls":15},{"$f":"IF($AE$66=0,\"\",IF(VLOOKUP($AE$66,領収証印刷データ!$A$11:$AF$1010,29,FALSE)=\"\",\"\",VLOOKUP($AE$66,領収証印刷データ!$A$11:$AF$1010,29,FALSE)))","v":""},null,{"$f":"IF($AE$66=0,\"\",IF(VLOOKUP($AE$66,領収証印刷データ!$A$11:$AF$1010,30,FALSE)=\"\",\"\",VLOOKUP($AE$66,領収証印刷データ!$A$11:$AF$1010,30,FALSE)))","v":""}]
[]
[null,null,{"$f":"IF($AE$66=0,\"\",IF(VLOOKUP($AE$66,領収証印刷データ!$A$11:$AF$1010,8,FALSE)=\"\",\"\",VLOOKUP($AE$66,領収証印刷データ!$A$11:$AF$1010,8,FALSE)))","v":""},{"$nulls":18},{"$f":"IF(領収証印刷シート1面!V58=\"\",\"\",領収証印刷シート1面!V58)","v":"　　　　　 電話　017-781-2244"}]
[]
[]
[{"$nulls":15},{"$f":"IF($AE$66=0,\"\",IF(VLOOKUP($AE$66,領収証印刷データ!$A$11:$AF$1010,31,FALSE)=\"\",\"\",VLOOKUP($AE$66,領収証印刷データ!$A$11:$AF$1010,31,FALSE)))","v":""},null,{"$f":"IF($AE$66=0,\"\",IF(VLOOKUP($AE$66,領収証印刷データ!$A$11:$AF$1010,32,FALSE)=\"\",\"\",VLOOKUP($AE$66,領収証印刷データ!$A$11:$AF$1010,32,FALSE)))","v":""}]
[]
[]
[]
[]
[null,null,"領収証（控）",{"$nulls":12},"領 収 証",{"$nulls":8},"№",{"$f":"IF($AE$127=0,\"\",IF(VLOOKUP($AE$127,領収証印刷データ!$A$11:$AF$1010,2,FALSE)=\"\",\"\",VLOOKUP($AE$127,領収証印刷データ!$A$11:$AF$1010,2,FALSE)))","v":""},{"$nulls":4},{"$f":"AE5+2","v":6}]
[]
[null,null,"№",null,{"$f":"IF($AE$127=0,\"\",IF(VLOOKUP($AE$127,領収証印刷データ!$A$11:$AF$1010,2,FALSE)=\"\",\"\",VLOOKUP($AE$127,領収証印刷データ!$A$11:$AF$1010,2,FALSE)))","v":""}]
[]
[]
[{"$nulls":17},{"$f":"IF($AE$127=0,\"\",IF(VLOOKUP($AE$127,領収証印刷データ!$A$11:$AF$1010,4,FALSE)=\"\",\"\",VLOOKUP($AE$127,領収証印刷データ!$A$11:$AF$1010,4,FALSE)))","v":""},{"$nulls":6},"様"]
[]
[null,null,"氏名",null,{"$f":"IF($AE$127=0,\"\",IF(VLOOKUP($AE$127,領収証印刷データ!$A$11:$AF$1010,4,FALSE)=\"\",\"\",VLOOKUP($AE$127,領収証印刷データ!$A$11:$AF$1010,4,FALSE)))","v":""}]
[]
[]
[]
[null,null,"請求金額",null,null,{"$f":"IF($AE$127=0,\"\",IF(VLOOKUP($AE$127,領収証印刷データ!$A$11:$AF$1010,5,FALSE)=\"\",\"\",VLOOKUP($AE$127,領収証印刷データ!$A$11:$AF$1010,5,FALSE)))","v":""}]
[{"$nulls":18},{"$f":"IF($AE$127=0,\"\",IF(VLOOKUP($AE$127,領収証印刷データ!$A$11:$AF$1010,6,FALSE)=\"\",\"\",VLOOKUP($AE$127,領収証印刷データ!$A$11:$AF$1010,6,FALSE)))","v":""}]
[]
[]
[]
[null,null,"領収金額",null,null,{"$f":"IF($AE$127=0,\"\",IF(VLOOKUP($AE$127,領収証印刷データ!$A$11:$AF$1010,6,FALSE)=\"\",\"\",VLOOKUP($AE$127,領収証印刷データ!$A$11:$AF$1010,6,FALSE)))","v":""}]
[]
[]
[]
[null,null,{"$f":"IF($AE$127=0,\"\",IF(VLOOKUP($AE$127,領収証印刷データ!$A$11:$AF$1010,10,FALSE)=\"\",\"\",VLOOKUP($AE$127,領収証印刷データ!$A$11:$AF$1010,10,FALSE)))","v":""},null,null,{"$f":"IF($AE$127=0,\"\",IF(VLOOKUP($AE$127,領収証印刷データ!$A$11:$AF$1010,11,FALSE)=\"\",\"\",VLOOKUP($AE$127,領収証印刷データ!$A$11:$AF$1010,11,FALSE)))","v":""}]
[]
[]
[]
[]
[null,null,{"$f":"IF($AE$127=0,\"\",IF(VLOOKUP($AE$127,領収証印刷データ!$A$11:$AF$1010,12,FALSE)=\"\",\"\",VLOOKUP($AE$127,領収証印刷データ!$A$11:$AF$1010,12,FALSE)))","v":""},{"$nulls":3},{"$f":"IF($AE$127=0,\"\",IF(VLOOKUP($AE$127,領収証印刷データ!$A$11:$AF$1010,13,FALSE)=\"\",\"\",VLOOKUP($AE$127,領収証印刷データ!$A$11:$AF$1010,13,FALSE)))","v":""},{"$nulls":9},"但",{"$f":"IF($AE$127=0,\"\",IF(VLOOKUP($AE$127,領収証印刷データ!$A$11:$AF$1010,7,FALSE)=\"\",\"\",VLOOKUP($AE$127,領収証印刷データ!$A$11:$AF$1010,7,FALSE)))","v":""}]
[]
[]
[]
[]
[null,null,{"$f":"IF($AE$127=0,\"\",IF(VLOOKUP($AE$127,領収証印刷データ!$A$11:$AF$1010,14,FALSE)=\"\",\"\",VLOOKUP($AE$127,領収証印刷データ!$A$11:$AF$1010,14,FALSE)))","v":""},null,null,{"$f":"IF($AE$127=0,\"\",IF(VLOOKUP($AE$127,領収証印刷データ!$A$11:$AF$1010,15,FALSE)=\"\",\"\",VLOOKUP($AE$127,領収証印刷データ!$A$11:$AF$1010,15,FALSE)))","v":""},{"$nulls":11},{"$f":"IF($AE$127=0,\"\",IF(VLOOKUP($AE$127,領収証印刷データ!$A$11:$AF$1010,8,FALSE)=\"\",\"\",VLOOKUP($AE$127,領収証印刷データ!$A$11:$AF$1010,8,FALSE)))","v":""}]
[]
[]
[]
[null,null,{"$f":"IF($AE$127=0,\"\",IF(VLOOKUP($AE$127,領収証印刷データ!$A$11:$AF$1010,16,FALSE)=\"\",\"\",VLOOKUP($AE$127,領収証印刷データ!$A$11:$AF$1010,16,FALSE)))","v":""},null,null,{"$f":"IF($AE$127=0,\"\",IF(VLOOKUP($AE$127,領収証印刷データ!$A$11:$AF$1010,17,FALSE)=\"\",\"\",VLOOKUP($AE$127,領収証印刷データ!$A$11:$AF$1010,17,FALSE)))","v":""},{"$nulls":10},{"$f":"IF($AE$127=0,\"\",IF(VLOOKUP($AE$127,領収証印刷データ!$A$11:$AF$1010,9,FALSE)=\"\",\"\",VLOOKUP($AE$127,領収証印刷データ!$A$11:$AF$1010,9,FALSE)))","v":""},{"$nulls":4},"上記正に領収いたしました"]
[]
[]
[]
[null,null,{"$f":"IF($AE$127=0,\"\",IF(VLOOKUP($AE$127,領収証印刷データ!$A$11:$AF$1010,9,FALSE)=\"\",\"\",VLOOKUP($AE$127,領収証印刷データ!$A$11:$AF$1010,9,FALSE)))","v":""},{"$nulls":12},{"$f":"IF($AE$127=0,\"\",IF(VLOOKUP($AE$127,領収証印刷データ!$A$11:$AF$1010,23,FALSE)=\"\",\"\",VLOOKUP($AE$127,領収証印刷データ!$A$11:$AF$1010,23,FALSE)))","v":""},null,{"$f":"IF($AE$127=0,\"\",IF(VLOOKUP($AE$127,領収証印刷データ!$A$11:$AF$1010,24,FALSE)=\"\",\"\",VLOOKUP($AE$127,領収証印刷データ!$A$11:$AF$1010,24,FALSE)))","v":""}]
[{"$nulls":21},{"$f":"IF(領収証印刷シート1面!V44=\"\",\"\",領収証印刷シート1面!V44)","v":"高 金 印 刷 株 式 会 社　　"}]
[]
[]
[null,null,"摘要",{"$nulls":12},{"$f":"IF($AE$127=0,\"\",IF(VLOOKUP($AE$127,領収証印刷データ!$A$11:$AF$1010,25,FALSE)=\"\",\"\",VLOOKUP($AE$127,領収証印刷データ!$A$11:$AF$1010,25,FALSE)))","v":""},null,{"$f":"IF($AE$127=0,\"\",IF(VLOOKUP($AE$127,領収証印刷データ!$A$11:$AF$1010,26,FALSE)=\"\",\"\",VLOOKUP($AE$127,領収証印刷データ!$A$11:$AF$1010,26,FALSE)))","v":""}]
[{"$nulls":21},{"$f":"IF(領収証印刷シート1面!V48=\"\",\"\",領収証印刷シート1面!V48)","v":"　　〒 038-0015"}]
[]
[null,null,{"$f":"IF($AE$127=0,\"\",IF(VLOOKUP($AE$127,領収証印刷データ!$A$11:$AF$1010,7,FALSE)=\"\",\"\",VLOOKUP($AE$127,領収証印刷データ!$A$11:$AF$1010,7,FALSE)))","v":""}]
[]
[{"$nulls":15},{"$f":"IF($AE$127=0,\"\",IF(VLOOKUP($AE$127,領収証印刷データ!$A$11:$AF$1010,27,FALSE)=\"\",\"\",VLOOKUP($AE$127,領収証印刷データ!$A$11:$AF$1010,27,FALSE)))","v":""},null,null,{"$f":"IF($AE$127=0,\"\",IF(VLOOKUP($AE$127,領収証印刷データ!$A$11:$AF$1010,28,FALSE)=\"\",\"\",VLOOKUP($AE$127,領収証印刷データ!$A$11:$AF$1010,28,FALSE)))","v":""}]
[{"$nulls":21},{"$f":"IF(領収証印刷シート1面!V53=\"\",\"\",領収証印刷シート1面!V53)","v":"　　　　青森市千刈二丁目１番３１号"}]
[]
[]
[{"$nulls":15},{"$f":"IF($AE$127=0,\"\",IF(VLOOKUP($AE$127,領収証印刷データ!$A$11:$AF$1010,29,FALSE)=\"\",\"\",VLOOKUP($AE$127,領収証印刷データ!$A$11:$AF$1010,29,FALSE)))","v":""},null,{"$f":"IF($AE$127=0,\"\",IF(VLOOKUP($AE$127,領収証印刷データ!$A$11:$AF$1010,30,FALSE)=\"\",\"\",VLOOKUP($AE$127,領収証印刷データ!$A$11:$AF$1010,30,FALSE)))","v":""}]
[]
[null,null,{"$f":"IF($AE$127=0,\"\",IF(VLOOKUP($AE$127,領収証印刷データ!$A$11:$AF$1010,8,FALSE)=\"\",\"\",VLOOKUP($AE$127,領収証印刷データ!$A$11:$AF$1010,8,FALSE)))","v":""},{"$nulls":18},{"$f":"IF(領収証印刷シート1面!V58=\"\",\"\",領収証印刷シート1面!V58)","v":"　　　　　 電話　017-781-2244"}]
[]
[]
[{"$nulls":15},{"$f":"IF($AE$127=0,\"\",IF(VLOOKUP($AE$127,領収証印刷データ!$A$11:$AF$1010,31,FALSE)=\"\",\"\",VLOOKUP($AE$127,領収証印刷データ!$A$11:$AF$1010,31,FALSE)))","v":""},null,{"$f":"IF($AE$127=0,\"\",IF(VLOOKUP($AE$127,領収証印刷データ!$A$11:$AF$1010,32,FALSE)=\"\",\"\",VLOOKUP($AE$127,領収証印刷データ!$A$11:$AF$1010,32,FALSE)))","v":""}]

{"sheet":"領収証印刷シート3面","index":8,"n_rows":183,"n_cols":31,"rows_kept":183,"merged":[[4,2,4,10],[4,15,7,20],[4,24,6,24],[4,25,6,26],[6,2,8,3],[6,4,8,10],[9,17,12,23],[9,24,12,24],[11,2,12,3],[11,4,12,10],[15,2,17,4],[15,5,17,10],[16,18,25,23],[20,2,21,4],[20,5,21,10],[24,2,26,4],[24,5,26,10],[29,2,31,5],[29,6,31,10],[29,16,31,16],[29,17,31,25],[34,2,35,4],[34,5,35,10],[34,17,35,25],[38,2,39,4],[38,5,39,10],[38,16,39,20],[38,21,39,25],[42,2,43,10],[42,15,43,16],[42,17,43,19],[43,21,46,24],[46,2,46,4],[46,15,48,16],[46,17,48,19],[47,21,51,24],[49,2,54,10],[51,15,52,17],[51,18,52,19],[52,21,56,24],[55,15,57,16],[55,17,57,19],[57,2,62,10],[57,21,61,24],[60,15,62,16],[60,17,62,19],[65,2,65,10],[65,15,68,20],[65,24,67,24],[65,25,67,26],[67,2,69,3],[67,4,69,10],[70,17,73,23],[70,24,73,24],[72,2,73,3],[72,4,73,10],[76,2,78,4],[76,5,78,10],[77,18,86,23],[81,2,82,4],[81,5,82,10],[85,2,87,4],[85,5,87,10],[90,2,92,5],[90,6,92,10],[90,16,92,16],[90,17,92,25],[95,2,96,4],[95,5,96,10],[95,17,96,25],[99,2,100,4],[99,5,100,10],[99,16,100,20],[99,21,100,25],[103,2,104,10],[103,15,104,16],[103,17,104,19],[104,21,107,24],[107,2,107,4],[107,15,109,16],[107,17,109,19],[108,21,112,24],[110,2,115,10],[112,15,113,17],[112,18,113,19],[113,21,117,24],[116,15,118,16],[116,17,118,19],[118,2,123,10],[118,21,122,24],[121,15,123,16],[121,17,123,19],[126,2,126,10],[126,15,129,20],[126,24,128,24],[126,25,128,26],[128,2,130,3],[128,4,130,10],[131,17,134,23],[131,24,134,24],[133,2,134,3],[133,4,134,10],[137,2,139,4],[137,5,139,10],[138,18,147,23],[142,2,143,4],[142,5,143,10],[146,2,148,4],[146,5,148,10],[151,2,153,5],[151,6,153,10],[151,16,153,16],[151,17,153,25],[156,2,157,4],[156,5,157,10],[156,17,157,25],[160,2,161,4],[160,5,161,10],[160,16,161,20],[160,21,161,25],[164,2,165,10],[164,15,165,16],[164,17,165,19],[165,21,168,24],[168,2,168,4],[168,15,170,16],[168,17,170,19],[169,21,173,24],[171,2,176,10],[173,15,174,17],[173,18,174,19],[174,21,178,24],[177,15,179,16],[177,17,179,19],[179,2,184,10],[179,21,183,24],[182,15,184,16],[182,17,184,19]]}
[]
[null,null,"領収証印刷シート3面"]
[]
[]
[null,null,"領収証（控）",{"$nulls":21},"№",{"$f":"IF(領収証シート3面!Z5=\"\",\"\",領収証シート3面!Z5)","v":""}]
[]
[null,null,"№",null,{"$f":"IF(領収証シート3面!E7=\"\",\"\",領収証シート3面!E7)","v":""}]
[]
[]
[{"$nulls":17},{"$f":"IF(領収証シート3面!R10=\"宛先名を空白で印刷する\",\"\",IF(領収証シート3面!R10=\"\",\"\",領収証シート3面!R10))","v":""},{"$nulls":6},"様"]
[]
[null,null,"氏名",null,{"$f":"IF(領収証シート3面!E12=\"宛先名を空白で印刷する\",\"\",IF(領収証シート3面!E12=\"\",\"\",領収証シート3面!E12))","v":""}]
[]
[]
[]
[null,null,"請求金額",null,null,{"$f":"IF(領収証シート3面!F16=\"\",\"\",領収証シート3面!F16)","v":""}]
[{"$nulls":18},{"$f":"IF(領収証シート3面!S17=\"\",\"\",領収証シート3面!S17)","v":""}]
[]
[]
[]
[null,null,"領収金額",null,null,{"$f":"IF(領収証シート3面!F21=\"\",\"\",領収証シート3面!F21)","v":""}]
[]
[]
[]
[null,null,{"$f":"IF(領収証シート3面!C25=\"\",\"\",領収証シート3面!C25)","v":""},null,null,{"$f":"IF(領収証シート3面!F25=\"\",\"\",領収証シート3面!F25)","v":""}]
[]
[]
[]
[]
[null,null,{"$f":"IF(領収証シート3面!C30=\"\",\"\",領収証シート3面!C30)","v":""},{"$nulls":3},{"$f":"IF(領収証シート3面!G30=\"\",\"\",領収証シート3面!G30)","v":""},{"$nulls":9},"但",{"$f":"IF(領収証シート3面!R30=\"\",\"\",領収証シート3面!R30)","v":""}]
[]
[]
[]
[]
[null,null,{"$f":"IF(領収証シート3面!C35=\"\",\"\",領収証シート3面!C35)","v":""},null,null,{"$f":"IF(領収証シート3面!F35=\"\",\"\",領収証シート3面!F35)","v":""},{"$nulls":11},{"$f":"IF(領収証シート3面!R35=\"\",\"\",領収証シート3面!R35)","v":""}]
[]
[]
[]
[null,null,{"$f":"IF(領収証シート3面!C39=\"\",\"\",領収証シート3面!C39)","v":""},null,null,{"$f":"IF(領収証シート3面!F39=\"\",\"\",領収証シート3面!F39)","v":""},{"$nulls":10},{"$f":"IF(領収証シート3面!Q39=\"\",\"\",領収証シート3面!Q39)","v":""},{"$nulls":4},"上記正に領収いたしました"]
[]
[]
[]
[null,null,{"$f":"IF(領収証シート3面!C43=\"\",\"\",領収証シート3面!C43)","v":""},{"$nulls":12},{"$f":"IF(領収証シート3面!P43=\"\",\"\",領収証シート3面!P43)","v":""},null,{"$f":"IF(領収証シート3面!R43=\"\",\"\",領収証シート3面!R43)","v":""}]
[{"$nulls":21},{"$f":"IF(領収証印刷シート1面!V44=\"\",\"\",領収証印刷シート1面!V44)","v":"高 金 印 刷 株 式 会 社　　"}]
[]
[]
[null,null,"摘要",{"$nulls":12},{"$f":"IF(領収証シート3面!P47=\"\",\"\",領収証シート3面!P47)","v":""},null,{"$f":"IF(領収証シート3面!R47=\"\",\"\",領収証シート3面!R47)","v":""}]
[{"$nulls":21},{"$f":"IF(領収証印刷シート1面!V48=\"\",\"\",領収証印刷シート1面!V48)","v":"　　〒 038-0015"}]
[]
[null,null,{"$f":"IF(領収証シート3面!C50=\"\",\"\",領収証シート3面!C50)","v":""}]
[]
[{"$nulls":15},{"$f":"IF(領収証シート3面!P52=\"\",\"\",領収証シート3面!P52)","v":""},null,null,{"$f":"IF(領収証シート3面!S52=\"\",\"\",領収証シート3面!S52)","v":""}]
[{"$nulls":21},{"$f":"IF(領収証印刷シート1面!V53=\"\",\"\",領収証印刷シート1面!V53)","v":"　　　　青森市千刈二丁目１番３１号"}]
[]
[]
[{"$nulls":15},{"$f":"IF(領収証シート3面!P56=\"\",\"\",領収証シート3面!P56)","v":""},null,{"$f":"IF(領収証シート3面!R56=\"\",\"\",領収証シート3面!R56)","v":""}]
[]
[null,null,{"$f":"IF(領収証シート3面!C58=\"\",\"\",領収証シート3面!C58)","v":""},{"$nulls":18},{"$f":"IF(領収証印刷シート1面!V58=\"\",\"\",領収証印刷シート1面!V58)","v":"　　　　　 電話　017-781-2244"}]
[]
[]
[{"$nulls":15},{"$f":"IF(領収証シート3面!P61=\"\",\"\",領収証シート3面!P61)","v":""},null,{"$f":"IF(領収証シート3面!R61=\"\",\"\",領収証シート3面!R61)","v":""}]
[]
[]
[]
[{"$nulls":30},"行65"]
[null,null,"領収証（控）",{"$nulls":21},"№",{"$f":"IF(領収証シート3面!Z66=\"\",\"\",領収証シート3面!Z66)","v":""}]
[]
[null,null,"№",null,{"$f":"IF(領収証シート3面!E68=\"\",\"\",領収証シート3面!E68)","v":""}]
[]
[]
[{"$nulls":17},{"$f":"IF(領収証シート3面!R71=\"宛先名を空白で印刷する\",\"\",IF(領収証シート3面!R71=\"\",\"\",領収証シート3面!R71))","v":""},{"$nulls":6},"様"]
[]
[null,null,"氏名",null,{"$f":"IF(領収証シート3面!E73=\"宛先名を空白で印刷する\",\"\",IF(領収証シート3面!E73=\"\",\"\",領収証シート3面!E73))","v":""}]
[]
[]
[]
[null,null,"請求金額",null,null,{"$f":"IF(領収証シート3面!F77=\"\",\"\",領収証シート3面!F77)","v":""}]
[{"$nulls":18},{"$f":"IF(領収証シート3面!S78=\"\",\"\",領収証シート3面!S78)","v":""}]
[]
[]
[]
[null,null,"領収金額",null,null,{"$f":"IF(領収証シート3面!F82=\"\",\"\",領収証シート3面!F82)","v":""}]
[]
[]
[]
[null,null,{"$f":"IF(領収証シート3面!C86=\"\",\"\",領収証シート3面!C86)","v":""},null,null,{"$f":"IF(領収証シート3面!F86=\"\",\"\",領収証シート3面!F86)","v":""}]
[]
[]
[]
[]
[null,null,{"$f":"IF(領収証シート3面!C91=\"\",\"\",領収証シート3面!C91)","v":""},{"$nulls":3},{"$f":"IF(領収証シート3面!G91=\"\",\"\",領収証シート3面!G91)","v":""},{"$nulls":9},"但",{"$f":"IF(領収証シート3面!R91=\"\",\"\",領収証シート3面!R91)","v":""}]
[]
[]
[]
[]
[null,null,{"$f":"IF(領収証シート3面!C96=\"\",\"\",領収証シート3面!C96)","v":""},null,null,{"$f":"IF(領収証シート3面!F96=\"\",\"\",領収証シート3面!F96)","v":""},{"$nulls":11},{"$f":"IF(領収証シート3面!R96=\"\",\"\",領収証シート3面!R96)","v":""}]
[]
[]
[]
[null,null,{"$f":"IF(領収証シート3面!C100=\"\",\"\",領収証シート3面!C100)","v":""},null,null,{"$f":"IF(領収証シート3面!F100=\"\",\"\",領収証シート3面!F100)","v":""},{"$nulls":10},{"$f":"IF(領収証シート3面!Q100=\"\",\"\",領収証シート3面!Q100)","v":""},{"$nulls":4},"上記正に領収いたしました"]
[]
[]
[]
[null,null,{"$f":"IF(領収証シート3面!C104=\"\",\"\",領収証シート3面!C104)","v":""},{"$nulls":12},{"$f":"IF(領収証シート3面!P104=\"\",\"\",領収証シート3面!P104)","v":""},null,{"$f":"IF(領収証シート3面!R104=\"\",\"\",領収証シート3面!R104)","v":""}]
[{"$nulls":21},{"$f":"IF(領収証印刷シート1面!V44=\"\",\"\",領収証印刷シート1面!V44)","v":"高 金 印 刷 株 式 会 社　　"}]
[]
[]
[null,null,"摘要",{"$nulls":12},{"$f":"IF(領収証シート3面!P108=\"\",\"\",領収証シート3面!P108)","v":""},null,{"$f":"IF(領収証シート3面!R108=\"\",\"\",領収証シート3面!R108)","v":""}]
[{"$nulls":21},{"$f":"IF(領収証印刷シート1面!V48=\"\",\"\",領収証印刷シート1面!V48)","v":"　　〒 038-0015"}]
[]
[null,null,{"$f":"IF(領収証シート3面!C111=\"\",\"\",領収証シート3面!C111)","v":""}]
[]
[{"$nulls":15},{"$f":"IF(領収証シート3面!P113=\"\",\"\",領収証シート3面!P113)","v":""},null,null,{"$f":"IF(領収証シート3面!S113=\"\",\"\",領収証シート3面!S113)","v":""}]
[{"$nulls":21},{"$f":"IF(領収証印刷シート1面!V53=\"\",\"\",領収証印刷シート1面!V53)","v":"　　　　青森市千刈二丁目１番３１号"}]
[]
[]
[{"$nulls":15},{"$f":"IF(領収証シート3面!P117=\"\",\"\",領収証シート3面!P117)","v":""},null,{"$f":"IF(領収証シート3面!R117=\"\",\"\",領収証シート3面!R117)","v":""}]
[]
[null,null,{"$f":"IF(領収証シート3面!C119=\"\",\"\",領収証シート3面!C119)","v":""},{"$nulls":18},{"$f":"IF(領収証印刷シート1面!V58=\"\",\"\",領収証印刷シート1面!V58)","v":"　　　　　 電話　017-781-2244"}]
[]
[]
[{"$nulls":15},{"$f":"IF(領収証シート3面!P122=\"\",\"\",領収証シート3面!P122)","v":""},null,{"$f":"IF(領収証シート3面!R122=\"\",\"\",領収証シート3面!R122)","v":""}]
[]
[]
[]
[{"$nulls":30},"行126"]
[null,null,"領収証（控）",{"$nulls":21},"№",{"$f":"IF(領収証シート3面!Z127=\"\",\"\",領収証シート3面!Z127)","v":""}]
[]
[null,null,"№",null,{"$f":"IF(領収証シート3面!E129=\"\",\"\",領収証シート3面!E129)","v":""}]
[]
[]
[{"$nulls":17},{"$f":"IF(領収証シート3面!R132=\"宛先名を空白で印刷する\",\"\",IF(領収証シート3面!R132=\"\",\"\",領収証シート3面!R132))","v":""},{"$nulls":6},"様"]
[]
[null,null,"氏名",null,{"$f":"IF(領収証シート3面!E134=\"宛先名を空白で印刷する\",\"\",IF(領収証シート3面!E134=\"\",\"\",領収証シート3面!E134))","v":""}]
[]
[]
[]
[null,null,"請求金額",null,null,{"$f":"IF(領収証シート3面!F138=\"\",\"\",領収証シート3面!F138)","v":""}]
[{"$nulls":18},{"$f":"IF(領収証シート3面!S139=\"\",\"\",領収証シート3面!S139)","v":""}]
[]
[]
[]
[null,null,"領収金額",null,null,{"$f":"IF(領収証シート3面!F143=\"\",\"\",領収証シート3面!F143)","v":""}]
[]
[]
[]
[null,null,{"$f":"IF(領収証シート3面!C147=\"\",\"\",領収証シート3面!C147)","v":""},null,null,{"$f":"IF(領収証シート3面!F147=\"\",\"\",領収証シート3面!F147)","v":""}]
[]
[]
[]
[]
[null,null,{"$f":"IF(領収証シート3面!C152=\"\",\"\",領収証シート3面!C152)","v":""},{"$nulls":3},{"$f":"IF(領収証シート3面!G152=\"\",\"\",領収証シート3面!G152)","v":""},{"$nulls":9},"但",{"$f":"IF(領収証シート3面!R152=\"\",\"\",領収証シート3面!R152)","v":""}]
[]
[]
[]
[]
[null,null,{"$f":"IF(領収証シート3面!C157=\"\",\"\",領収証シート3面!C157)","v":""},null,null,{"$f":"IF(領収証シート3面!F157=\"\",\"\",領収証シート3面!F157)","v":""},{"$nulls":11},{"$f":"IF(領収証シート3面!R157=\"\",\"\",領収証シート3面!R157)","v":""}]
[]
[]
[]
[null,null,{"$f":"IF(領収証シート3面!C161=\"\",\"\",領収証シート3面!C161)","v":""},null,null,{"$f":"IF(領収証シート3面!F161=\"\",\"\",領収証シート3面!F161)","v":""},{"$nulls":10},{"$f":"IF(領収証シート3面!Q161=\"\",\"\",領収証シート3面!Q161)","v":""},{"$nulls":4},"上記正に領収いたしました"]
[]
[]
[]
[null,null,{"$f":"IF(領収証シート3面!C165=\"\",\"\",領収証シート3面!C165)","v":""},{"$nulls":12},{"$f":"IF(領収証シート3面!P165=\"\",\"\",領収証シート3面!P165)","v":""},null,{"$f":"IF(領収証シート3面!R165=\"\",\"\",領収証シート3面!R165)","v":""}]
[{"$nulls":21},{"$f":"IF(領収証印刷シート1面!V44=\"\",\"\",領収証印刷シート1面!V44)","v":"高 金 印 刷 株 式 会 社　　"}]
[]
[]
[null,null,"摘要",{"$nulls":12},{"$f":"IF(領収証シート3面!P169=\"\",\"\",領収証シート3面!P169)","v":""},null,{"$f":"IF(領収証シート3面!R169=\"\",\"\",領収証シート3面!R169)","v":""}]
[{"$nulls":21},{"$f":"IF(領収証印刷シート1面!V48=\"\",\"\",領収証印刷シート1面!V48)","v":"　　〒 038-0015"}]
[]
[null,null,{"$f":"IF(領収証シート3面!C172=\"\",\"\",領収証シート3面!C172)","v":""}]
[]
[{"$nulls":15},{"$f":"IF(領収証シート3面!P174=\"\",\"\",領収証シート3面!P174)","v":""},null,null,{"$f":"IF(領収証シート3面!S174=\"\",\"\",領収証シート3面!S174)","v":""}]
[{"$nulls":21},{"$f":"IF(領収証印刷シート1面!V53=\"\",\"\",領収証印刷シート1面!V53)","v":"　　　　青森市千刈二丁目１番３１号"}]
[]
[]
[{"$nulls":15},{"$f":"IF(領収証シート3面!P178=\"\",\"\",領収証シート3面!P178)","v":""},null,{"$f":"IF(領収証シート3面!R178=\"\",\"\",領収証シート3面!R178)","v":""}]
[]
[null,null,{"$f":"IF(領収証シート3面!C180=\"\",\"\",領収証シート3面!C180)","v":""},{"$nulls":18},{"$f":"IF(領収証印刷シート1面!V58=\"\",\"\",領収証印刷シート1面!V58)","v":"　　　　　 電話　017-781-2244"}]
[]
[]
[{"$nulls":15},{"$f":"IF(領収証シート3面!P183=\"\",\"\",領収証シート3面!P183)","v":""},null,{"$f":"IF(領収証シート3面!R183=\"\",\"\",領収証シート3面!R183)","v":""}]

{"sheet":"読み取りシート","index":9,"n_rows":39,"n_cols":3,"rows_kept":39}
["簡単君ｒｋ2017-Ａ4は、ただいま、読み取り専用です"]
[]
[null,"通知がくるまでお待ちください"]
[]
[null,"（読み取りで開かれた場合、このシート（読み取りシート）が表示されます）"]
[null,"（簡単君ｒｋ2017-Ａ4をこのままにしておいて別の仕事をしてください）"]
[]
[]
[]
[]
[]
[]
[null,"≪ネットワーク環境で簡単君ｒｋ2017-Ａ4を使用する場合≫"]
[]
["①","簡単君ｒｋ2017-Ａ4を　Public　フォルダに置いて使用ください（下記Ａ・Ｂを参考にしてください）"]
[]
["②","②-1","Public　フォルダに置いてある、簡単君ｒｋ2017-Ａ4を開きます"]
[null,"②-2","（先に、他のユーザーが簡単君ｒｋ2017-Ａ4を開いている場合、下記の表示がされます）"]
[null,"②-3","使用中のファイル　で簡単君ｒｋ2017-Ａ4は、編集のためロックされています。"]
[null,"②-4","通知(N)をクリックします"]
[null,"②-5","読み取りシートが表示されます"]
[null,"②-6","使用中のファイルが閉じられると、下記の表示がされます"]
[null,"②-7","ファイル使用可能　で編集できるようになりました。"]
[null,"②-8","編集(W)をクリックします"]
[]
[]
[]
[]
[]
[]
["Ａ","Microsoft Office Ｅｘｃｅｌ ヘルプ (F1) で下記のキーワードで検索してください"]
[null,"パブリック フォルダーを使用したファイルの共有"]
[]
["Ｂ","パブリック フォルダーの場所"]
[null,"Windows のパブリック フォルダーは 1 つだけです。コンピューター上でユーザー アカウントを持つすべてのユーザーは、このフォルダーを共有します。"]
[null,"パブリック フォルダーを開くには :"]
[null,"①","[ドキュメント] を開くには、[スタート] ボタン　　 をクリックして、[ドキュメント] をクリックします。"]
[null,"②","ナビゲーション ウィンドウで、[お気に入りリンク] の [パブリック] をクリックします。[お気に入りリンク] に [パブリック] フォルダーが表示されないように"]
[null,null,"ナビゲーション ウィンドウを設定している場合は、[詳細]、[パブリック] の順にクリックします。"]

{"sheet":"回数","index":10,"n_rows":1,"n_cols":1,"rows_kept":1,"hidden":true}
[0]

{"sheet":"割り算の商と余り","index":11,"n_rows":7,"n_cols":4,"rows_kept":7,"hidden":true}
["分子","分母"]
["印刷データカウント","3面","商","余り"]
[{"$f":"COUNTA(領収証印刷データ!B11:B1010)","v":0},3,{"$f":"QUOTIENT(A3,B3)","v":0},{"$f":"MOD(A3,B3)","v":0}]
[]
["4頁以上の場合、商の部分リスト行数",{"$f":"B3*C3","v":0}]
[]
["4頁以上の場合、最終頁先頭行番号",{"$f":"(B3*C3)+1","v":1}]

{"sheet":"データリスト確認rk2017","index":12,"n_rows":10,"n_cols":32,"rows_kept":10,"hidden":true}
{"$rows_empty":9}
[null,"領収証ID","顧客名ID","顧客名","請求金額","領収金額","但書き（上段）","但書き（下段）","領収証発行日付","控項目名1","控項目名1内容","控項目名2","控項目名2内容","控項目名3","控項目名3内容","控項目名4","控項目名4内容","担当者ID","担当者","備考","メモ","領収証印刷日","領収証項目名1","領収証項目名1内容","領収証項目名2","領収証項目名2内容","領収証項目名3","領収証項目名3内容","領収証項目名4","領収証項目名4内容","領収証項目名5","領収証項目名5内容"]